BEGIN:VCALENDAR
VERSION:2.0
PRODID:-//Archizaragoza - ECPv6.15.18//NONSGML v1.0//EN
CALSCALE:GREGORIAN
METHOD:PUBLISH
X-WR-CALNAME:Archizaragoza
X-ORIGINAL-URL:https://www.archizaragoza.org
X-WR-CALDESC:Eventos para Archizaragoza
REFRESH-INTERVAL;VALUE=DURATION:PT1H
X-Robots-Tag:noindex
X-PUBLISHED-TTL:PT1H
BEGIN:VTIMEZONE
TZID:Europe/Madrid
BEGIN:DAYLIGHT
TZOFFSETFROM:+0100
TZOFFSETTO:+0200
TZNAME:CEST
DTSTART:20250330T010000
END:DAYLIGHT
BEGIN:STANDARD
TZOFFSETFROM:+0200
TZOFFSETTO:+0100
TZNAME:CET
DTSTART:20251026T010000
END:STANDARD
BEGIN:DAYLIGHT
TZOFFSETFROM:+0100
TZOFFSETTO:+0200
TZNAME:CEST
DTSTART:20260329T010000
END:DAYLIGHT
BEGIN:STANDARD
TZOFFSETFROM:+0200
TZOFFSETTO:+0100
TZNAME:CET
DTSTART:20261025T010000
END:STANDARD
BEGIN:DAYLIGHT
TZOFFSETFROM:+0100
TZOFFSETTO:+0200
TZNAME:CEST
DTSTART:20270328T010000
END:DAYLIGHT
BEGIN:STANDARD
TZOFFSETFROM:+0200
TZOFFSETTO:+0100
TZNAME:CET
DTSTART:20271031T010000
END:STANDARD
END:VTIMEZONE
BEGIN:VEVENT
DTSTART;VALUE=DATE:20260125
DTEND;VALUE=DATE:20260126
DTSTAMP:20260422T210950
CREATED:20250805T095746Z
LAST-MODIFIED:20250805T095746Z
UID:10000616-1769299200-1769385599@www.archizaragoza.org
SUMMARY:DOMINGO DE LA PALABRA DEL SEÑOR
DESCRIPTION:
URL:https://www.archizaragoza.org/evento/domingo-de-la-palabra-del-senor-2
END:VEVENT
BEGIN:VEVENT
DTSTART;TZID=Europe/Madrid:20260125T120000
DTEND;TZID=Europe/Madrid:20260125T133000
DTSTAMP:20260422T210950
CREATED:20260114T085250Z
LAST-MODIFIED:20260114T085831Z
UID:10000762-1769342400-1769347800@www.archizaragoza.org
SUMMARY:Semana Cultural Sanjuanista
DESCRIPTION:Día 25 (12:00 h.): La semana concluirá con una Misa solemne de acción de gracias.
URL:https://www.archizaragoza.org/evento/semana-cultural-sanjuanista-del-19-al-25-de-enero-de-2026-7
LOCATION:Parroquia de San Juan de la Cruz\, San Juan de la Cruz\, 8\, Zaragoza
ORGANIZER;CN="Parroquia San Juan de la Cruz":MAILTO:sanjuancruzaragoza@gmail.com
GEO:41.6410285;-0.8925114
X-APPLE-STRUCTURED-LOCATION;VALUE=URI;X-ADDRESS=Parroquia de San Juan de la Cruz San Juan de la Cruz 8 Zaragoza;X-APPLE-RADIUS=500;X-TITLE=San Juan de la Cruz\, 8:geo:-0.8925114,41.6410285
END:VEVENT
END:VCALENDAR