BEGIN:VCALENDAR
VERSION:2.0
PRODID:-//Archizaragoza - ECPv6.15.18//NONSGML v1.0//EN
CALSCALE:GREGORIAN
METHOD:PUBLISH
X-ORIGINAL-URL:https://www.archizaragoza.org
X-WR-CALDESC:Eventos para Archizaragoza
REFRESH-INTERVAL;VALUE=DURATION:PT1H
X-Robots-Tag:noindex
X-PUBLISHED-TTL:PT1H
BEGIN:VTIMEZONE
TZID:Europe/Madrid
BEGIN:DAYLIGHT
TZOFFSETFROM:+0100
TZOFFSETTO:+0200
TZNAME:CEST
DTSTART:20250330T010000
END:DAYLIGHT
BEGIN:STANDARD
TZOFFSETFROM:+0200
TZOFFSETTO:+0100
TZNAME:CET
DTSTART:20251026T010000
END:STANDARD
BEGIN:DAYLIGHT
TZOFFSETFROM:+0100
TZOFFSETTO:+0200
TZNAME:CEST
DTSTART:20260329T010000
END:DAYLIGHT
BEGIN:STANDARD
TZOFFSETFROM:+0200
TZOFFSETTO:+0100
TZNAME:CET
DTSTART:20261025T010000
END:STANDARD
BEGIN:DAYLIGHT
TZOFFSETFROM:+0100
TZOFFSETTO:+0200
TZNAME:CEST
DTSTART:20270328T010000
END:DAYLIGHT
BEGIN:STANDARD
TZOFFSETFROM:+0200
TZOFFSETTO:+0100
TZNAME:CET
DTSTART:20271031T010000
END:STANDARD
END:VTIMEZONE
BEGIN:VEVENT
DTSTART;TZID=Europe/Madrid:20260202T183000
DTEND;TZID=Europe/Madrid:20260202T193000
DTSTAMP:20260422T195816
CREATED:20260130T115634Z
LAST-MODIFIED:20260130T115634Z
UID:10000844-1770057000-1770060600@www.archizaragoza.org
SUMMARY:"Situacion histórica\, social y política del fenómeno profético en el A. T."
DESCRIPTION:Imparte: Gema López-Menchero\nPrimera sesión del curso «Voces de Dios en tiempos difíciles. Los profetas del Antiguo Testamento».\nEntrada libre hasta completar aforo\nMás información: campusteologiacreta.com | 621 227 591
URL:https://www.archizaragoza.org/evento/situacion-historica-social-y-politica-del-fenomeno-profetico-en-el-a-t
LOCATION:CRETA\, Ronda Hispanidad\, 10\, Zaragoza
GEO:41.6302135;-0.9022092
X-APPLE-STRUCTURED-LOCATION;VALUE=URI;X-ADDRESS=CRETA Ronda Hispanidad 10 Zaragoza;X-APPLE-RADIUS=500;X-TITLE=Ronda Hispanidad\, 10:geo:-0.9022092,41.6302135
END:VEVENT
END:VCALENDAR