BEGIN:VCALENDAR
VERSION:2.0
PRODID:-//Archizaragoza - ECPv6.15.18//NONSGML v1.0//EN
CALSCALE:GREGORIAN
METHOD:PUBLISH
X-ORIGINAL-URL:https://www.archizaragoza.org
X-WR-CALDESC:Eventos para Archizaragoza
REFRESH-INTERVAL;VALUE=DURATION:PT1H
X-Robots-Tag:noindex
X-PUBLISHED-TTL:PT1H
BEGIN:VTIMEZONE
TZID:Europe/Madrid
BEGIN:DAYLIGHT
TZOFFSETFROM:+0100
TZOFFSETTO:+0200
TZNAME:CEST
DTSTART:20250330T010000
END:DAYLIGHT
BEGIN:STANDARD
TZOFFSETFROM:+0200
TZOFFSETTO:+0100
TZNAME:CET
DTSTART:20251026T010000
END:STANDARD
BEGIN:DAYLIGHT
TZOFFSETFROM:+0100
TZOFFSETTO:+0200
TZNAME:CEST
DTSTART:20260329T010000
END:DAYLIGHT
BEGIN:STANDARD
TZOFFSETFROM:+0200
TZOFFSETTO:+0100
TZNAME:CET
DTSTART:20261025T010000
END:STANDARD
BEGIN:DAYLIGHT
TZOFFSETFROM:+0100
TZOFFSETTO:+0200
TZNAME:CEST
DTSTART:20270328T010000
END:DAYLIGHT
BEGIN:STANDARD
TZOFFSETFROM:+0200
TZOFFSETTO:+0100
TZNAME:CET
DTSTART:20271031T010000
END:STANDARD
END:VTIMEZONE
BEGIN:VEVENT
DTSTART;VALUE=DATE:20260206
DTEND;VALUE=DATE:20260207
DTSTAMP:20260422T195152
CREATED:20250806T095509Z
LAST-MODIFIED:20250806T095509Z
UID:10000620-1770336000-1770422399@www.archizaragoza.org
SUMMARY:Día del Ayuno Voluntario
DESCRIPTION:
URL:https://www.archizaragoza.org/evento/dia-del-ayuno-voluntario
END:VEVENT
BEGIN:VEVENT
DTSTART;TZID=Europe/Madrid:20260206T180000
DTEND;TZID=Europe/Madrid:20260206T190000
DTSTAMP:20260422T195152
CREATED:20260130T114109Z
LAST-MODIFIED:20260130T114109Z
UID:10000780-1770400800-1770404400@www.archizaragoza.org
SUMMARY:Presentación de la Campaña de Manos Unidas a la Virgen del Pilar
DESCRIPTION:En la Santa Capilla de la catedral del Pilar \nPresidirá Fredy Pérez\, consiliario de Manos Unidas en Zaragoza.
URL:https://www.archizaragoza.org/evento/presentacion-de-la-campana-de-manos-unidas-a-la-virgen-del-pilar
LOCATION:Catedral del Pilar
GEO:41.656301;-0.8787713
END:VEVENT
END:VCALENDAR