BEGIN:VCALENDAR
VERSION:2.0
PRODID:-//Archizaragoza - ECPv6.15.18//NONSGML v1.0//EN
CALSCALE:GREGORIAN
METHOD:PUBLISH
X-ORIGINAL-URL:https://www.archizaragoza.org
X-WR-CALDESC:Eventos para Archizaragoza
REFRESH-INTERVAL;VALUE=DURATION:PT1H
X-Robots-Tag:noindex
X-PUBLISHED-TTL:PT1H
BEGIN:VTIMEZONE
TZID:Europe/Madrid
BEGIN:DAYLIGHT
TZOFFSETFROM:+0100
TZOFFSETTO:+0200
TZNAME:CEST
DTSTART:20250330T010000
END:DAYLIGHT
BEGIN:STANDARD
TZOFFSETFROM:+0200
TZOFFSETTO:+0100
TZNAME:CET
DTSTART:20251026T010000
END:STANDARD
BEGIN:DAYLIGHT
TZOFFSETFROM:+0100
TZOFFSETTO:+0200
TZNAME:CEST
DTSTART:20260329T010000
END:DAYLIGHT
BEGIN:STANDARD
TZOFFSETFROM:+0200
TZOFFSETTO:+0100
TZNAME:CET
DTSTART:20261025T010000
END:STANDARD
BEGIN:DAYLIGHT
TZOFFSETFROM:+0100
TZOFFSETTO:+0200
TZNAME:CEST
DTSTART:20270328T010000
END:DAYLIGHT
BEGIN:STANDARD
TZOFFSETFROM:+0200
TZOFFSETTO:+0100
TZNAME:CET
DTSTART:20271031T010000
END:STANDARD
END:VTIMEZONE
BEGIN:VEVENT
DTSTART;VALUE=DATE:20260209
DTEND;VALUE=DATE:20260216
DTSTAMP:20260422T195714
CREATED:20250806T104247Z
LAST-MODIFIED:20250806T104247Z
UID:10000626-1770595200-1771199999@www.archizaragoza.org
SUMMARY:Semana del Matrimonio
DESCRIPTION:
URL:https://www.archizaragoza.org/evento/semana-del-matrimonio-2
END:VEVENT
BEGIN:VEVENT
DTSTART;TZID=Europe/Madrid:20260214T100000
DTEND;TZID=Europe/Madrid:20260214T120000
DTSTAMP:20260422T195714
CREATED:20251215T093807Z
LAST-MODIFIED:20251215T093807Z
UID:10000729-1771063200-1771070400@www.archizaragoza.org
SUMMARY:Orar al ritmo del Espíritu
DESCRIPTION:Organiza: Canonesas del Santo Sepulcro. \nMañanas de reflexion \, silencio y contemplación en una Iglesia sinodal \nSegundábado de mes hasta junio de 2026
URL:https://www.archizaragoza.org/evento/orar-al-ritmo-del-espiritu/2026-02-14
LOCATION:Canonesas del Santo Sepulcro\, Don Teobaldo\, 3\, Zaragoza
ORGANIZER;CN="Canonesas del Santo Sepulcro":MAILTO:infocanonesas@gmail.com
GEO:41.6535776;-0.8724143
X-APPLE-STRUCTURED-LOCATION;VALUE=URI;X-ADDRESS=Canonesas del Santo Sepulcro Don Teobaldo 3 Zaragoza;X-APPLE-RADIUS=500;X-TITLE=Don Teobaldo\, 3:geo:-0.8724143,41.6535776
END:VEVENT
BEGIN:VEVENT
DTSTART;TZID=Europe/Madrid:20260214T203000
DTEND;TZID=Europe/Madrid:20260214T220000
DTSTAMP:20260422T195714
CREATED:20260206T105924Z
LAST-MODIFIED:20260206T105924Z
UID:10000854-1771101000-1771106400@www.archizaragoza.org
SUMMARY:Semana del Matrimonio: Visita guiada y nocturna por el interio del Pilar
DESCRIPTION:14 de febrero: a las 20:30\, la Basílica del Pilar\, en colaboración con el Cabildo Metropolitano\, se abre exclusivamente para nosotros. Una visita guiada nocturna y privada\, para conocer los secretos de esta basílica… el precio es de _10€ por pareja_\nPlazas agotadas.
URL:https://www.archizaragoza.org/evento/semana-del-matrimonio-visita-guiada-y-nocturna-por-el-interio-del-pilar
LOCATION:Catedral del Pilar
GEO:41.656301;-0.8787713
END:VEVENT
END:VCALENDAR