BEGIN:VCALENDAR
VERSION:2.0
PRODID:-//Archizaragoza - ECPv6.15.18//NONSGML v1.0//EN
CALSCALE:GREGORIAN
METHOD:PUBLISH
X-ORIGINAL-URL:https://www.archizaragoza.org
X-WR-CALDESC:Eventos para Archizaragoza
REFRESH-INTERVAL;VALUE=DURATION:PT1H
X-Robots-Tag:noindex
X-PUBLISHED-TTL:PT1H
BEGIN:VTIMEZONE
TZID:Europe/Madrid
BEGIN:DAYLIGHT
TZOFFSETFROM:+0100
TZOFFSETTO:+0200
TZNAME:CEST
DTSTART:20250330T010000
END:DAYLIGHT
BEGIN:STANDARD
TZOFFSETFROM:+0200
TZOFFSETTO:+0100
TZNAME:CET
DTSTART:20251026T010000
END:STANDARD
BEGIN:DAYLIGHT
TZOFFSETFROM:+0100
TZOFFSETTO:+0200
TZNAME:CEST
DTSTART:20260329T010000
END:DAYLIGHT
BEGIN:STANDARD
TZOFFSETFROM:+0200
TZOFFSETTO:+0100
TZNAME:CET
DTSTART:20261025T010000
END:STANDARD
BEGIN:DAYLIGHT
TZOFFSETFROM:+0100
TZOFFSETTO:+0200
TZNAME:CEST
DTSTART:20270328T010000
END:DAYLIGHT
BEGIN:STANDARD
TZOFFSETFROM:+0200
TZOFFSETTO:+0100
TZNAME:CET
DTSTART:20271031T010000
END:STANDARD
END:VTIMEZONE
BEGIN:VEVENT
DTSTART;VALUE=DATE:20260209
DTEND;VALUE=DATE:20260216
DTSTAMP:20260422T195714
CREATED:20250806T104247Z
LAST-MODIFIED:20250806T104247Z
UID:10000626-1770595200-1771199999@www.archizaragoza.org
SUMMARY:Semana del Matrimonio
DESCRIPTION:
URL:https://www.archizaragoza.org/evento/semana-del-matrimonio-2
END:VEVENT
BEGIN:VEVENT
DTSTART;TZID=Europe/Madrid:20260215T101500
DTEND;TZID=Europe/Madrid:20260215T130000
DTSTAMP:20260422T195714
CREATED:20260206T110024Z
LAST-MODIFIED:20260206T110024Z
UID:10000855-1771150500-1771160400@www.archizaragoza.org
SUMMARY:Semana del Matrimonio: Encuentro con familias migrantes
DESCRIPTION:15 de febrero: encuentro con familias migrantes acompañados por las familias de Lazos de amor Mariano. A las 10:15\, en la Parroquia Nuestra Señora de los Dolores (C/ Juana de Ibarbourou\, 10)\, tomaremos café y conoceremos el testimonio de varias familias migrantes. A las 12:00\, misa familiar donde todos son bienvenidos.
URL:https://www.archizaragoza.org/evento/semana-del-matrimonio-encuentro-con-familias-migrantes
LOCATION:Parroquia de Nuestra Señora de los Dolores\, Juana de Ibarbourou\, 10\, Zaragoza\, Zaragoza\, 50013\, España
GEO:41.6423449;-0.8698658
X-APPLE-STRUCTURED-LOCATION;VALUE=URI;X-ADDRESS=Parroquia de Nuestra Señora de los Dolores Juana de Ibarbourou 10 Zaragoza Zaragoza 50013 España;X-APPLE-RADIUS=500;X-TITLE=Juana de Ibarbourou\, 10:geo:-0.8698658,41.6423449
END:VEVENT
END:VCALENDAR