BEGIN:VCALENDAR
VERSION:2.0
PRODID:-//Archizaragoza - ECPv6.15.18//NONSGML v1.0//EN
CALSCALE:GREGORIAN
METHOD:PUBLISH
X-WR-CALNAME:Archizaragoza
X-ORIGINAL-URL:https://www.archizaragoza.org
X-WR-CALDESC:Eventos para Archizaragoza
REFRESH-INTERVAL;VALUE=DURATION:PT1H
X-Robots-Tag:noindex
X-PUBLISHED-TTL:PT1H
BEGIN:VTIMEZONE
TZID:Europe/Madrid
BEGIN:DAYLIGHT
TZOFFSETFROM:+0100
TZOFFSETTO:+0200
TZNAME:CEST
DTSTART:20250330T010000
END:DAYLIGHT
BEGIN:STANDARD
TZOFFSETFROM:+0200
TZOFFSETTO:+0100
TZNAME:CET
DTSTART:20251026T010000
END:STANDARD
BEGIN:DAYLIGHT
TZOFFSETFROM:+0100
TZOFFSETTO:+0200
TZNAME:CEST
DTSTART:20260329T010000
END:DAYLIGHT
BEGIN:STANDARD
TZOFFSETFROM:+0200
TZOFFSETTO:+0100
TZNAME:CET
DTSTART:20261025T010000
END:STANDARD
BEGIN:DAYLIGHT
TZOFFSETFROM:+0100
TZOFFSETTO:+0200
TZNAME:CEST
DTSTART:20270328T010000
END:DAYLIGHT
BEGIN:STANDARD
TZOFFSETFROM:+0200
TZOFFSETTO:+0100
TZNAME:CET
DTSTART:20271031T010000
END:STANDARD
END:VTIMEZONE
BEGIN:VEVENT
DTSTART;TZID=Europe/Madrid:20260219T180000
DTEND;TZID=Europe/Madrid:20260219T190000
DTSTAMP:20260422T195420
CREATED:20260130T114545Z
LAST-MODIFIED:20260130T120732Z
UID:10000784-1771524000-1771527600@www.archizaragoza.org
SUMMARY:Cristianos en un mundo de inteligencia artifical
DESCRIPTION:5\, 12\, 19 y 26 de febrero\n18:00 h.\nCRETA\nImparte: Francisco Genova\, director del CRETA\nAsistencia como oyente: entrada gratuito\nCon derecho a Diploma con trabajo final: 44€\nMás información: campusteologiacreta.com | 621 227 591
URL:https://www.archizaragoza.org/evento/cristianos-en-un-mundo-de-inteligencia-artifical/2026-02-19
LOCATION:CRETA\, Ronda Hispanidad\, 10\, Zaragoza
GEO:41.6302135;-0.9022092
X-APPLE-STRUCTURED-LOCATION;VALUE=URI;X-ADDRESS=CRETA Ronda Hispanidad 10 Zaragoza;X-APPLE-RADIUS=500;X-TITLE=Ronda Hispanidad\, 10:geo:-0.9022092,41.6302135
END:VEVENT
END:VCALENDAR