BEGIN:VCALENDAR
VERSION:2.0
PRODID:-//Archizaragoza - ECPv6.15.18//NONSGML v1.0//EN
CALSCALE:GREGORIAN
METHOD:PUBLISH
X-ORIGINAL-URL:https://www.archizaragoza.org
X-WR-CALDESC:Eventos para Archizaragoza
REFRESH-INTERVAL;VALUE=DURATION:PT1H
X-Robots-Tag:noindex
X-PUBLISHED-TTL:PT1H
BEGIN:VTIMEZONE
TZID:Europe/Madrid
BEGIN:DAYLIGHT
TZOFFSETFROM:+0100
TZOFFSETTO:+0200
TZNAME:CEST
DTSTART:20250330T010000
END:DAYLIGHT
BEGIN:STANDARD
TZOFFSETFROM:+0200
TZOFFSETTO:+0100
TZNAME:CET
DTSTART:20251026T010000
END:STANDARD
BEGIN:DAYLIGHT
TZOFFSETFROM:+0100
TZOFFSETTO:+0200
TZNAME:CEST
DTSTART:20260329T010000
END:DAYLIGHT
BEGIN:STANDARD
TZOFFSETFROM:+0200
TZOFFSETTO:+0100
TZNAME:CET
DTSTART:20261025T010000
END:STANDARD
BEGIN:DAYLIGHT
TZOFFSETFROM:+0100
TZOFFSETTO:+0200
TZNAME:CEST
DTSTART:20270328T010000
END:DAYLIGHT
BEGIN:STANDARD
TZOFFSETFROM:+0200
TZOFFSETTO:+0100
TZNAME:CET
DTSTART:20271031T010000
END:STANDARD
END:VTIMEZONE
BEGIN:VEVENT
DTSTART;TZID=Europe/Madrid:20260307T100000
DTEND;TZID=Europe/Madrid:20260307T160000
DTSTAMP:20260422T182316
CREATED:20260221T092217Z
LAST-MODIFIED:20260221T092217Z
UID:10000874-1772877600-1772899200@www.archizaragoza.org
SUMMARY:Talleres de Arte y Oración: "Contemplación de la Pasión desde el Arte"
DESCRIPTION:Isabel Guerra\nDe la mano de la pintora de la luz\, nos acercaremos al arte\, como medio para contemplar la Pasión. \nPrecio: 25 € comida incluida.\nContacto: 976272150 – 618950032\nCorreo electrónico: quintajulieta@arzobispadodezaragoza.org
URL:https://www.archizaragoza.org/evento/talleres-de-arte-y-oracion-contemplacion-de-la-pasion-desde-el-arte
LOCATION:Quinta Julieta\, Paseo del Canal\, 144\, Zaragoza
GEO:41.6260745;-0.8711379
X-APPLE-STRUCTURED-LOCATION;VALUE=URI;X-ADDRESS=Quinta Julieta Paseo del Canal 144 Zaragoza;X-APPLE-RADIUS=500;X-TITLE=Paseo del Canal\, 144:geo:-0.8711379,41.6260745
END:VEVENT
END:VCALENDAR