BEGIN:VCALENDAR
VERSION:2.0
PRODID:-//Archizaragoza - ECPv6.15.18//NONSGML v1.0//EN
CALSCALE:GREGORIAN
METHOD:PUBLISH
X-WR-CALNAME:Archizaragoza
X-ORIGINAL-URL:https://www.archizaragoza.org
X-WR-CALDESC:Eventos para Archizaragoza
REFRESH-INTERVAL;VALUE=DURATION:PT1H
X-Robots-Tag:noindex
X-PUBLISHED-TTL:PT1H
BEGIN:VTIMEZONE
TZID:Europe/Madrid
BEGIN:DAYLIGHT
TZOFFSETFROM:+0100
TZOFFSETTO:+0200
TZNAME:CEST
DTSTART:20250330T010000
END:DAYLIGHT
BEGIN:STANDARD
TZOFFSETFROM:+0200
TZOFFSETTO:+0100
TZNAME:CET
DTSTART:20251026T010000
END:STANDARD
BEGIN:DAYLIGHT
TZOFFSETFROM:+0100
TZOFFSETTO:+0200
TZNAME:CEST
DTSTART:20260329T010000
END:DAYLIGHT
BEGIN:STANDARD
TZOFFSETFROM:+0200
TZOFFSETTO:+0100
TZNAME:CET
DTSTART:20261025T010000
END:STANDARD
BEGIN:DAYLIGHT
TZOFFSETFROM:+0100
TZOFFSETTO:+0200
TZNAME:CEST
DTSTART:20270328T010000
END:DAYLIGHT
BEGIN:STANDARD
TZOFFSETFROM:+0200
TZOFFSETTO:+0100
TZNAME:CET
DTSTART:20271031T010000
END:STANDARD
END:VTIMEZONE
BEGIN:VEVENT
DTSTART;TZID=Europe/Madrid:20260309T113000
DTEND;TZID=Europe/Madrid:20260313T113000
DTSTAMP:20260422T182032
CREATED:20260221T084928Z
LAST-MODIFIED:20260221T090136Z
UID:10000864-1773055800-1773401400@www.archizaragoza.org
SUMMARY:Ejercicios Espirituales sobre el Evangelio de San Marcos
DESCRIPTION:Dirigido por: D. Pedro José Gracia León\, Canónigo.
URL:https://www.archizaragoza.org/evento/ejercicios-espirituales-sobre-el-evangelio-de-san-marcos/2026-03-09
LOCATION:Basílica del Pilar
ORGANIZER;CN="Cabildo Metropolitano":MAILTO:basilicadelpilar@gmail.com
END:VEVENT
BEGIN:VEVENT
DTSTART;TZID=Europe/Madrid:20260310T190000
DTEND;TZID=Europe/Madrid:20260310T190000
DTSTAMP:20260422T182032
CREATED:20260221T100228Z
LAST-MODIFIED:20260221T100715Z
UID:10000880-1773169200-1773169200@www.archizaragoza.org
SUMMARY:V Ciclo de Conferencias de Pensamiento Cristiano 2025-2026
DESCRIPTION:La duda de fe en la biblia: la duda en el libro de Jonás\nPor: Miguel Ángel Melendo\nCoordina: José Alegre Aragües \nEntrada libre hasta completar el aforo.
URL:https://www.archizaragoza.org/evento/v-ciclo-de-conferencias-de-pensamiento-cristiano-2025-2026-2
LOCATION:Centro Joaquín Roncal\, Calle San Braulio 5-7\, Zaragoza
ORGANIZER;CN="Acci%C3%B3n Social Cat%C3%B3lica":MAILTO:asczaragoza@gmail.com
GEO:41.6546864;-0.879386
X-APPLE-STRUCTURED-LOCATION;VALUE=URI;X-ADDRESS=Centro Joaquín Roncal Calle San Braulio 5-7 Zaragoza;X-APPLE-RADIUS=500;X-TITLE=Calle San Braulio 5-7:geo:-0.879386,41.6546864
END:VEVENT
END:VCALENDAR