BEGIN:VCALENDAR
VERSION:2.0
PRODID:-//Archizaragoza - ECPv6.15.18//NONSGML v1.0//EN
CALSCALE:GREGORIAN
METHOD:PUBLISH
X-WR-CALNAME:Archizaragoza
X-ORIGINAL-URL:https://www.archizaragoza.org
X-WR-CALDESC:Eventos para Archizaragoza
REFRESH-INTERVAL;VALUE=DURATION:PT1H
X-Robots-Tag:noindex
X-PUBLISHED-TTL:PT1H
BEGIN:VTIMEZONE
TZID:Europe/Madrid
BEGIN:DAYLIGHT
TZOFFSETFROM:+0100
TZOFFSETTO:+0200
TZNAME:CEST
DTSTART:20250330T010000
END:DAYLIGHT
BEGIN:STANDARD
TZOFFSETFROM:+0200
TZOFFSETTO:+0100
TZNAME:CET
DTSTART:20251026T010000
END:STANDARD
BEGIN:DAYLIGHT
TZOFFSETFROM:+0100
TZOFFSETTO:+0200
TZNAME:CEST
DTSTART:20260329T010000
END:DAYLIGHT
BEGIN:STANDARD
TZOFFSETFROM:+0200
TZOFFSETTO:+0100
TZNAME:CET
DTSTART:20261025T010000
END:STANDARD
BEGIN:DAYLIGHT
TZOFFSETFROM:+0100
TZOFFSETTO:+0200
TZNAME:CEST
DTSTART:20270328T010000
END:DAYLIGHT
BEGIN:STANDARD
TZOFFSETFROM:+0200
TZOFFSETTO:+0100
TZNAME:CET
DTSTART:20271031T010000
END:STANDARD
END:VTIMEZONE
BEGIN:VEVENT
DTSTART;VALUE=DATE:20260314
DTEND;VALUE=DATE:20260316
DTSTAMP:20260422T182111
CREATED:20260221T090957Z
LAST-MODIFIED:20260221T090957Z
UID:10000868-1773446400-1773619199@www.archizaragoza.org
SUMMARY:Javierada 20206
DESCRIPTION:La delegación de Juventud de Zaragoza\, lidera el fin de semana del 14 y 15 de marzo esta peregrinación de jóvenes entre 15 y 35 años.\nEl plazo para apuntarse finaliza el domingo 8 de marzo.
URL:https://www.archizaragoza.org/evento/javierada-20206
LOCATION:Castillo de Javier\, Navarra
GEO:42.6953909;-1.6760691
END:VEVENT
BEGIN:VEVENT
DTSTART;TZID=Europe/Madrid:20260314T100000
DTEND;TZID=Europe/Madrid:20260314T120000
DTSTAMP:20260422T182111
CREATED:20251215T093807Z
LAST-MODIFIED:20251215T093807Z
UID:10000730-1773482400-1773489600@www.archizaragoza.org
SUMMARY:Orar al ritmo del Espíritu
DESCRIPTION:Organiza: Canonesas del Santo Sepulcro. \nMañanas de reflexion \, silencio y contemplación en una Iglesia sinodal \nSegundábado de mes hasta junio de 2026
URL:https://www.archizaragoza.org/evento/orar-al-ritmo-del-espiritu/2026-03-14
LOCATION:Canonesas del Santo Sepulcro\, Don Teobaldo\, 3\, Zaragoza
ORGANIZER;CN="Canonesas del Santo Sepulcro":MAILTO:infocanonesas@gmail.com
GEO:41.6535776;-0.8724143
X-APPLE-STRUCTURED-LOCATION;VALUE=URI;X-ADDRESS=Canonesas del Santo Sepulcro Don Teobaldo 3 Zaragoza;X-APPLE-RADIUS=500;X-TITLE=Don Teobaldo\, 3:geo:-0.8724143,41.6535776
END:VEVENT
BEGIN:VEVENT
DTSTART;TZID=Europe/Madrid:20260314T100000
DTEND;TZID=Europe/Madrid:20260314T130000
DTSTAMP:20260422T182111
CREATED:20250807T103622Z
LAST-MODIFIED:20260302T100028Z
UID:10000639-1773482400-1773493200@www.archizaragoza.org
SUMMARY:Consejo Diocesano de Pastoral
DESCRIPTION:
URL:https://www.archizaragoza.org/evento/consejo-diocesano-de-pastoral-4
LOCATION:Parroquia Sagrado Corazon\, Paseo Rosales\, 26\, Zaragoza\, Zaragoza\, 50006\, España
GEO:41.6406001;-0.8780245
X-APPLE-STRUCTURED-LOCATION;VALUE=URI;X-ADDRESS=Parroquia Sagrado Corazon Paseo Rosales 26 Zaragoza Zaragoza 50006 España;X-APPLE-RADIUS=500;X-TITLE=Paseo Rosales\, 26:geo:-0.8780245,41.6406001
END:VEVENT
END:VCALENDAR