BEGIN:VCALENDAR
VERSION:2.0
PRODID:-//Archizaragoza - ECPv6.15.18//NONSGML v1.0//EN
CALSCALE:GREGORIAN
METHOD:PUBLISH
X-ORIGINAL-URL:https://www.archizaragoza.org
X-WR-CALDESC:Eventos para Archizaragoza
REFRESH-INTERVAL;VALUE=DURATION:PT1H
X-Robots-Tag:noindex
X-PUBLISHED-TTL:PT1H
BEGIN:VTIMEZONE
TZID:Europe/Madrid
BEGIN:DAYLIGHT
TZOFFSETFROM:+0100
TZOFFSETTO:+0200
TZNAME:CEST
DTSTART:20250330T010000
END:DAYLIGHT
BEGIN:STANDARD
TZOFFSETFROM:+0200
TZOFFSETTO:+0100
TZNAME:CET
DTSTART:20251026T010000
END:STANDARD
BEGIN:DAYLIGHT
TZOFFSETFROM:+0100
TZOFFSETTO:+0200
TZNAME:CEST
DTSTART:20260329T010000
END:DAYLIGHT
BEGIN:STANDARD
TZOFFSETFROM:+0200
TZOFFSETTO:+0100
TZNAME:CET
DTSTART:20261025T010000
END:STANDARD
BEGIN:DAYLIGHT
TZOFFSETFROM:+0100
TZOFFSETTO:+0200
TZNAME:CEST
DTSTART:20270328T010000
END:DAYLIGHT
BEGIN:STANDARD
TZOFFSETFROM:+0200
TZOFFSETTO:+0100
TZNAME:CET
DTSTART:20271031T010000
END:STANDARD
END:VTIMEZONE
BEGIN:VEVENT
DTSTART;TZID=Europe/Madrid:20260324T080000
DTEND;TZID=Europe/Madrid:20260324T170000
DTSTAMP:20260422T182436
CREATED:20260324T075413Z
LAST-MODIFIED:20260324T075413Z
UID:10000896-1774339200-1774371600@www.archizaragoza.org
SUMMARY:Conferencias en torno a Julián Marías
DESCRIPTION:Organizan: ACdP y Fundación Cultural Herrera Oria.
URL:https://www.archizaragoza.org/evento/conferencias-en-torno-a-julian-marias
LOCATION:Salón de actos de la Parroquia de Santa Engracia\, P. Constitución\, esquina Hernando de Aragón\, Zaragoza\, 50001
END:VEVENT
BEGIN:VEVENT
DTSTART;TZID=Europe/Madrid:20260324T190000
DTEND;TZID=Europe/Madrid:20260324T200000
DTSTAMP:20260422T182436
CREATED:20260316T114336Z
LAST-MODIFIED:20260316T123203Z
UID:10000892-1774378800-1774382400@www.archizaragoza.org
SUMMARY:V Ciclo de Conferencias de Pensamiento Cristiano 2025-2026
DESCRIPTION:La duda de fe en la biblia: «La duda de fe en el Nuevo Testamento»\nPor: Lizito Fernández Alfonso\nCoordina: José Alegre Aragües \nEntrada libre hasta completar el aforo.
URL:https://www.archizaragoza.org/evento/v-ciclo-de-conferencias-de-pensamiento-cristiano-2025-2026-6
LOCATION:Centro Joaquín Roncal\, Calle San Braulio 5-7\, Zaragoza
ORGANIZER;CN="Acci%C3%B3n Social Cat%C3%B3lica":MAILTO:asczaragoza@gmail.com
GEO:41.6546864;-0.879386
X-APPLE-STRUCTURED-LOCATION;VALUE=URI;X-ADDRESS=Centro Joaquín Roncal Calle San Braulio 5-7 Zaragoza;X-APPLE-RADIUS=500;X-TITLE=Calle San Braulio 5-7:geo:-0.879386,41.6546864
END:VEVENT
BEGIN:VEVENT
DTSTART;TZID=Europe/Madrid:20260324T200000
DTEND;TZID=Europe/Madrid:20260324T213000
DTSTAMP:20260422T182436
CREATED:20260221T084439Z
LAST-MODIFIED:20260324T073908Z
UID:10000863-1774382400-1774387800@www.archizaragoza.org
SUMMARY:Concierto de Cuaresma 2026: Miserere de Azara
DESCRIPTION:Célebre Miserere de Azara
URL:https://www.archizaragoza.org/evento/concierto-de-cuaresma-2026
LOCATION:Catedral del Salvador -La Seo-\, Plaza de la Seo\, 4\, Zaragoza
ORGANIZER;CN="Cabildo Metropolitano":MAILTO:basilicadelpilar@gmail.com
GEO:41.65463;-0.87564
X-APPLE-STRUCTURED-LOCATION;VALUE=URI;X-ADDRESS=Catedral del Salvador -La Seo- Plaza de la Seo 4 Zaragoza;X-APPLE-RADIUS=500;X-TITLE=Plaza de la Seo\, 4:geo:-0.87564,41.65463
END:VEVENT
END:VCALENDAR