BEGIN:VCALENDAR
VERSION:2.0
PRODID:-//Archizaragoza - ECPv6.15.18//NONSGML v1.0//EN
CALSCALE:GREGORIAN
METHOD:PUBLISH
X-WR-CALNAME:Archizaragoza
X-ORIGINAL-URL:https://www.archizaragoza.org
X-WR-CALDESC:Eventos para Archizaragoza
REFRESH-INTERVAL;VALUE=DURATION:PT1H
X-Robots-Tag:noindex
X-PUBLISHED-TTL:PT1H
BEGIN:VTIMEZONE
TZID:Europe/Madrid
BEGIN:DAYLIGHT
TZOFFSETFROM:+0100
TZOFFSETTO:+0200
TZNAME:CEST
DTSTART:20250330T010000
END:DAYLIGHT
BEGIN:STANDARD
TZOFFSETFROM:+0200
TZOFFSETTO:+0100
TZNAME:CET
DTSTART:20251026T010000
END:STANDARD
BEGIN:DAYLIGHT
TZOFFSETFROM:+0100
TZOFFSETTO:+0200
TZNAME:CEST
DTSTART:20260329T010000
END:DAYLIGHT
BEGIN:STANDARD
TZOFFSETFROM:+0200
TZOFFSETTO:+0100
TZNAME:CET
DTSTART:20261025T010000
END:STANDARD
BEGIN:DAYLIGHT
TZOFFSETFROM:+0100
TZOFFSETTO:+0200
TZNAME:CEST
DTSTART:20270328T010000
END:DAYLIGHT
BEGIN:STANDARD
TZOFFSETFROM:+0200
TZOFFSETTO:+0100
TZNAME:CET
DTSTART:20271031T010000
END:STANDARD
END:VTIMEZONE
BEGIN:VEVENT
DTSTART;VALUE=DATE:20260325
DTEND;VALUE=DATE:20260326
DTSTAMP:20260422T182118
CREATED:20250807T113003Z
LAST-MODIFIED:20250807T113003Z
UID:10000646-1774396800-1774483199@www.archizaragoza.org
SUMMARY:Día por la Vida
DESCRIPTION:
URL:https://www.archizaragoza.org/evento/dia-por-la-vida
END:VEVENT
BEGIN:VEVENT
DTSTART;TZID=Europe/Madrid:20260325T110000
DTEND;TZID=Europe/Madrid:20260325T120000
DTSTAMP:20260422T182118
CREATED:20260317T181109Z
LAST-MODIFIED:20260317T181109Z
UID:10000893-1774436400-1774440000@www.archizaragoza.org
SUMMARY:"Espiritualidad sinodal\, conversión pastoral y misión" por D. Vicente Jiménez Zamora
DESCRIPTION:Miércoles\, 25 de marzo\, a la 11 de la mañana en el CRETA: \n«Espiritualidad sinodal\, conversión pastoral y misión»\, a cargo del arzobispo emérito de Zaragoza\, D. Vicente Jimenez Zamora. \nPara todos los públicos\, pero en especial para sacerdotes\, por su temática.
URL:https://www.archizaragoza.org/evento/espiritualidad-sinodal-conversion-pastoral-y-mision-por-d-vicente-jimenez-zamora
LOCATION:CRETA\, Ronda Hispanidad\, 10\, Zaragoza
ORGANIZER;CN="Equipo sinodal de la diocesis":MAILTO:sinodo@archizaragoza.org
GEO:41.6302135;-0.9022092
X-APPLE-STRUCTURED-LOCATION;VALUE=URI;X-ADDRESS=CRETA Ronda Hispanidad 10 Zaragoza;X-APPLE-RADIUS=500;X-TITLE=Ronda Hispanidad\, 10:geo:-0.9022092,41.6302135
END:VEVENT
BEGIN:VEVENT
DTSTART;TZID=Europe/Madrid:20260325T170000
DTEND;TZID=Europe/Madrid:20260325T170000
DTSTAMP:20260422T182118
CREATED:20260317T181337Z
LAST-MODIFIED:20260317T181337Z
UID:10000894-1774458000-1774458000@www.archizaragoza.org
SUMMARY:Eucaristía por la Vida
DESCRIPTION:Con celebración de bautizos de varios niños de la Casa Cuna Ainkaren
URL:https://www.archizaragoza.org/evento/eucaristia-por-la-vida
LOCATION:Catedral del Pilar
GEO:41.656301;-0.8787713
END:VEVENT
BEGIN:VEVENT
DTSTART;TZID=Europe/Madrid:20260325T170000
DTEND;TZID=Europe/Madrid:20260325T180000
DTSTAMP:20260422T182118
CREATED:20260324T074931Z
LAST-MODIFIED:20260324T074931Z
UID:10000895-1774458000-1774461600@www.archizaragoza.org
SUMMARY:Vigilia por la Vida
DESCRIPTION:Eucaristía con celebración de bautizos de niños de la Casa Cuna Ainkaren.
URL:https://www.archizaragoza.org/evento/vigilia-por-la-vida
LOCATION:Basílica del Pilar
END:VEVENT
BEGIN:VEVENT
DTSTART;TZID=Europe/Madrid:20260325T193000
DTEND;TZID=Europe/Madrid:20260325T203000
DTSTAMP:20260422T182118
CREATED:20260221T090401Z
LAST-MODIFIED:20260324T074644Z
UID:10000865-1774467000-1774470600@www.archizaragoza.org
SUMMARY:Charla preparatoria para el sacramento de la penitencia: "Pero de ti procede el perdón. Salm 130\,4".
DESCRIPTION:A cargo del canónigo José Antonio Calvo Gracia.
URL:https://www.archizaragoza.org/evento/formacion-sobre-la-penitencia
LOCATION:Catedral del Pilar
ORGANIZER;CN="Cabildo Metropolitano":MAILTO:basilicadelpilar@gmail.com
GEO:41.656301;-0.8787713
END:VEVENT
END:VCALENDAR