BEGIN:VCALENDAR
VERSION:2.0
PRODID:-//Archizaragoza - ECPv6.15.18//NONSGML v1.0//EN
CALSCALE:GREGORIAN
METHOD:PUBLISH
X-WR-CALNAME:Archizaragoza
X-ORIGINAL-URL:https://www.archizaragoza.org
X-WR-CALDESC:Eventos para Archizaragoza
REFRESH-INTERVAL;VALUE=DURATION:PT1H
X-Robots-Tag:noindex
X-PUBLISHED-TTL:PT1H
BEGIN:VTIMEZONE
TZID:Europe/Madrid
BEGIN:DAYLIGHT
TZOFFSETFROM:+0100
TZOFFSETTO:+0200
TZNAME:CEST
DTSTART:20250330T010000
END:DAYLIGHT
BEGIN:STANDARD
TZOFFSETFROM:+0200
TZOFFSETTO:+0100
TZNAME:CET
DTSTART:20251026T010000
END:STANDARD
BEGIN:DAYLIGHT
TZOFFSETFROM:+0100
TZOFFSETTO:+0200
TZNAME:CEST
DTSTART:20260329T010000
END:DAYLIGHT
BEGIN:STANDARD
TZOFFSETFROM:+0200
TZOFFSETTO:+0100
TZNAME:CET
DTSTART:20261025T010000
END:STANDARD
BEGIN:DAYLIGHT
TZOFFSETFROM:+0100
TZOFFSETTO:+0200
TZNAME:CEST
DTSTART:20270328T010000
END:DAYLIGHT
BEGIN:STANDARD
TZOFFSETFROM:+0200
TZOFFSETTO:+0100
TZNAME:CET
DTSTART:20271031T010000
END:STANDARD
END:VTIMEZONE
BEGIN:VEVENT
DTSTART;VALUE=DATE:20260403
DTEND;VALUE=DATE:20260404
DTSTAMP:20260422T134531
CREATED:20250807T113351Z
LAST-MODIFIED:20250807T113351Z
UID:10000650-1775174400-1775260799@www.archizaragoza.org
SUMMARY:VIERNES SANTO
DESCRIPTION:
URL:https://www.archizaragoza.org/evento/viernes-santo
END:VEVENT
BEGIN:VEVENT
DTSTART;VALUE=DATE:20260403
DTEND;VALUE=DATE:20260404
DTSTAMP:20260422T134531
CREATED:20260324T084558Z
LAST-MODIFIED:20260324T084558Z
UID:10000906-1775174400-1775260799@www.archizaragoza.org
SUMMARY:Viernes Santo en la Pasión del Señor - Basílica del Pilar
DESCRIPTION:10.00. Oficio de Lecturas y Laudes.\n17.00. Celebración de la Pasión del Señor
URL:https://www.archizaragoza.org/evento/viernes-santo-en-la-pasion-del-senor-basilica-del-pilar
LOCATION:Basílica del Pilar
ORGANIZER;CN="Cabildo Metropolitano":MAILTO:basilicadelpilar@gmail.com
END:VEVENT
BEGIN:VEVENT
DTSTART;TZID=Europe/Madrid:20260403T173000
DTEND;TZID=Europe/Madrid:20260403T190000
DTSTAMP:20260422T134531
CREATED:20260324T082150Z
LAST-MODIFIED:20260324T082150Z
UID:10000901-1775237400-1775242800@www.archizaragoza.org
SUMMARY:Viernes Santo en la Pasión del Señor\, día de ayuno y abstinencia
DESCRIPTION:Celebración de la Pasión del Señor.
URL:https://www.archizaragoza.org/evento/viernes-santo-en-la-pasion-del-senor-dia-de-ayuno-y-abstinencia
LOCATION:Catedral del Salvador -La Seo-\, Plaza de la Seo\, 4\, Zaragoza
ORGANIZER;CN="Cabildo Metropolitano":MAILTO:basilicadelpilar@gmail.com
GEO:41.65463;-0.87564
X-APPLE-STRUCTURED-LOCATION;VALUE=URI;X-ADDRESS=Catedral del Salvador -La Seo- Plaza de la Seo 4 Zaragoza;X-APPLE-RADIUS=500;X-TITLE=Plaza de la Seo\, 4:geo:-0.87564,41.65463
END:VEVENT
END:VCALENDAR