BEGIN:VCALENDAR
VERSION:2.0
PRODID:-//Archizaragoza - ECPv6.15.18//NONSGML v1.0//EN
CALSCALE:GREGORIAN
METHOD:PUBLISH
X-WR-CALNAME:Archizaragoza
X-ORIGINAL-URL:https://www.archizaragoza.org
X-WR-CALDESC:Eventos para Archizaragoza
REFRESH-INTERVAL;VALUE=DURATION:PT1H
X-Robots-Tag:noindex
X-PUBLISHED-TTL:PT1H
BEGIN:VTIMEZONE
TZID:Europe/Madrid
BEGIN:DAYLIGHT
TZOFFSETFROM:+0100
TZOFFSETTO:+0200
TZNAME:CEST
DTSTART:20250330T010000
END:DAYLIGHT
BEGIN:STANDARD
TZOFFSETFROM:+0200
TZOFFSETTO:+0100
TZNAME:CET
DTSTART:20251026T010000
END:STANDARD
BEGIN:DAYLIGHT
TZOFFSETFROM:+0100
TZOFFSETTO:+0200
TZNAME:CEST
DTSTART:20260329T010000
END:DAYLIGHT
BEGIN:STANDARD
TZOFFSETFROM:+0200
TZOFFSETTO:+0100
TZNAME:CET
DTSTART:20261025T010000
END:STANDARD
BEGIN:DAYLIGHT
TZOFFSETFROM:+0100
TZOFFSETTO:+0200
TZNAME:CEST
DTSTART:20270328T010000
END:DAYLIGHT
BEGIN:STANDARD
TZOFFSETFROM:+0200
TZOFFSETTO:+0100
TZNAME:CET
DTSTART:20271031T010000
END:STANDARD
END:VTIMEZONE
BEGIN:VEVENT
DTSTART;TZID=Europe/Madrid:20260123T200000
DTEND;TZID=Europe/Madrid:20260123T210000
DTSTAMP:20260423T001813
CREATED:20260114T092029Z
LAST-MODIFIED:20260114T092029Z
UID:10000769-1769198400-1769202000@www.archizaragoza.org
SUMMARY:Oración Interconfesional
DESCRIPTION:Templo Parroquial de S. Pedro Apóstol (Zuera)\nC/ Club de Juventud\, 2.\nZuera.
URL:https://www.archizaragoza.org/evento/oracion-interconfesional
END:VEVENT
BEGIN:VEVENT
DTSTART;TZID=Europe/Madrid:20260123T180000
DTEND;TZID=Europe/Madrid:20260123T200000
DTSTAMP:20260423T001813
CREATED:20260114T085013Z
LAST-MODIFIED:20260114T085814Z
UID:10000760-1769191200-1769198400@www.archizaragoza.org
SUMMARY:Semana Cultural Sanjuanista
DESCRIPTION:Día 23 (18:00 h.): D. José Manuel Triano (Carmelita Descalzo Seglar) presentará al místico como un referente actual en la ponencia «San Juan de la Cruz\, modelo para los laicos del siglo XXI».
URL:https://www.archizaragoza.org/evento/semana-cultural-sanjuanista-del-19-al-25-de-enero-de-2026-5
LOCATION:Parroquia de San Juan de la Cruz\, San Juan de la Cruz\, 8\, Zaragoza
ORGANIZER;CN="Parroquia San Juan de la Cruz":MAILTO:sanjuancruzaragoza@gmail.com
GEO:41.6410285;-0.8925114
X-APPLE-STRUCTURED-LOCATION;VALUE=URI;X-ADDRESS=Parroquia de San Juan de la Cruz San Juan de la Cruz 8 Zaragoza;X-APPLE-RADIUS=500;X-TITLE=San Juan de la Cruz\, 8:geo:-0.8925114,41.6410285
END:VEVENT
BEGIN:VEVENT
DTSTART;TZID=Europe/Madrid:20260123T170000
DTEND;TZID=Europe/Madrid:20260123T190000
DTSTAMP:20260423T001813
CREATED:20260117T081136Z
LAST-MODIFIED:20260117T081136Z
UID:10000773-1769187600-1769194800@www.archizaragoza.org
SUMMARY:Charla: "El diálogo parresiásco"
DESCRIPTION:A Cargo de Moisés Reguera Campillo\nCapilla Nuestra Señora del Carmen\nC/ Baltasar Gracián\, 11\nUtebo.\nOrganzia la Parroquia de Utebo
URL:https://www.archizaragoza.org/evento/charla-el-dialogo-parresiasco
LOCATION:Utebo\, Utebo\, Zaragoza\, España
END:VEVENT
BEGIN:VEVENT
DTSTART;TZID=Europe/Madrid:20260122T190000
DTEND;TZID=Europe/Madrid:20260122T200000
DTSTAMP:20260423T001813
CREATED:20260114T091851Z
LAST-MODIFIED:20260114T091851Z
UID:10000768-1769108400-1769112000@www.archizaragoza.org
SUMMARY:Clausura de la Semana de Oración por la Unidad de los Cristianos 2026.
DESCRIPTION:Preside P. Aurel Nae\, Sacerdote de la Iglesia Ortodoxa Rumana. Parroquia de la Dormición de Sta. María. Iglesia Ortodoxa Rumana. C/ Florentino Ballesteros\, 23 (Las Fuentes).
URL:https://www.archizaragoza.org/evento/clausura-de-la-semana-de-oracion-por-la-unidad-de-los-cristianos-2026
END:VEVENT
BEGIN:VEVENT
DTSTART;TZID=Europe/Madrid:20260122T180000
DTEND;TZID=Europe/Madrid:20260122T200000
DTSTAMP:20260423T001813
CREATED:20260114T084926Z
LAST-MODIFIED:20260114T085742Z
UID:10000759-1769104800-1769112000@www.archizaragoza.org
SUMMARY:Semana Cultural Sanjuanista
DESCRIPTION:Día 22 (18:00 h.): El P. Roberto González (Carmelita Descalzo) analizará «La presencia de San Juan de la Cruz en la liturgia».
URL:https://www.archizaragoza.org/evento/semana-cultural-sanjuanista-del-19-al-25-de-enero-de-2026-4
LOCATION:Parroquia de San Juan de la Cruz\, San Juan de la Cruz\, 8\, Zaragoza
ORGANIZER;CN="Parroquia San Juan de la Cruz":MAILTO:sanjuancruzaragoza@gmail.com
GEO:41.6410285;-0.8925114
X-APPLE-STRUCTURED-LOCATION;VALUE=URI;X-ADDRESS=Parroquia de San Juan de la Cruz San Juan de la Cruz 8 Zaragoza;X-APPLE-RADIUS=500;X-TITLE=San Juan de la Cruz\, 8:geo:-0.8925114,41.6410285
END:VEVENT
BEGIN:VEVENT
DTSTART;VALUE=DATE:20260115
DTEND;VALUE=DATE:20260123
DTSTAMP:20260423T001813
CREATED:20251229T170237Z
LAST-MODIFIED:20251229T170237Z
UID:10000743-1768435200-1769126399@www.archizaragoza.org
SUMMARY:Semana de Oración por la Unidad de los Cristianos.
DESCRIPTION:Del 15 al 22 de enero de 2026 la delegacion de Relaciones Interconfesionales celebra la tradicional Semana de Oración por la Unidad de los Cristianos que este año lleva por lema «Un solo Espíritu\, una sola esperanza».
URL:https://www.archizaragoza.org/evento/semana-de-oracion-por-la-unidad-de-los-cristianos
END:VEVENT
END:VCALENDAR