BEGIN:VCALENDAR
VERSION:2.0
PRODID:-//Archizaragoza - ECPv6.15.18//NONSGML v1.0//EN
CALSCALE:GREGORIAN
METHOD:PUBLISH
X-WR-CALNAME:Archizaragoza
X-ORIGINAL-URL:https://www.archizaragoza.org
X-WR-CALDESC:Eventos para Archizaragoza
REFRESH-INTERVAL;VALUE=DURATION:PT1H
X-Robots-Tag:noindex
X-PUBLISHED-TTL:PT1H
BEGIN:VTIMEZONE
TZID:Europe/Madrid
BEGIN:DAYLIGHT
TZOFFSETFROM:+0100
TZOFFSETTO:+0200
TZNAME:CEST
DTSTART:20250330T010000
END:DAYLIGHT
BEGIN:STANDARD
TZOFFSETFROM:+0200
TZOFFSETTO:+0100
TZNAME:CET
DTSTART:20251026T010000
END:STANDARD
BEGIN:DAYLIGHT
TZOFFSETFROM:+0100
TZOFFSETTO:+0200
TZNAME:CEST
DTSTART:20260329T010000
END:DAYLIGHT
BEGIN:STANDARD
TZOFFSETFROM:+0200
TZOFFSETTO:+0100
TZNAME:CET
DTSTART:20261025T010000
END:STANDARD
BEGIN:DAYLIGHT
TZOFFSETFROM:+0100
TZOFFSETTO:+0200
TZNAME:CEST
DTSTART:20270328T010000
END:DAYLIGHT
BEGIN:STANDARD
TZOFFSETFROM:+0200
TZOFFSETTO:+0100
TZNAME:CET
DTSTART:20271031T010000
END:STANDARD
END:VTIMEZONE
BEGIN:VEVENT
DTSTART;TZID=Europe/Madrid:20260603T000000
DTEND;TZID=Europe/Madrid:20260603T000000
DTSTAMP:20260423T005228
CREATED:20250808T074442Z
LAST-MODIFIED:20250808T074442Z
UID:10000665-1780444800-1780444800@www.archizaragoza.org
SUMMARY:Ofrenda de becas para vocaciones nativas a Ntra. Sra. del Pilar
DESCRIPTION:
URL:https://www.archizaragoza.org/evento/ofrenda-de-becas-para-vocaciones-nativas-a-ntra-sra-del-pilar-3
LOCATION:Basílica del Pilar
END:VEVENT
BEGIN:VEVENT
DTSTART;TZID=Europe/Madrid:20260604T000000
DTEND;TZID=Europe/Madrid:20260604T000000
DTSTAMP:20260423T005228
CREATED:20250808T082521Z
LAST-MODIFIED:20250808T082521Z
UID:10000670-1780531200-1780531200@www.archizaragoza.org
SUMMARY:Eucaristía de Caridad
DESCRIPTION:
URL:https://www.archizaragoza.org/evento/eucaristia-de-caridad
ORGANIZER;CN="C%C3%A1ritas diocesana de Zaragoza":MAILTO:info@caritas-zaragoza.es
END:VEVENT
BEGIN:VEVENT
DTSTART;VALUE=DATE:20260604
DTEND;VALUE=DATE:20260605
DTSTAMP:20260423T005228
CREATED:20250808T082438Z
LAST-MODIFIED:20250808T082438Z
UID:10000669-1780531200-1780617599@www.archizaragoza.org
SUMMARY:CORPUS CRISTI
DESCRIPTION:
URL:https://www.archizaragoza.org/evento/corpus-cristi
END:VEVENT
BEGIN:VEVENT
DTSTART;TZID=Europe/Madrid:20260604T190000
DTEND;TZID=Europe/Madrid:20260604T203000
DTSTAMP:20260423T005228
CREATED:20260421T121443Z
LAST-MODIFIED:20260421T121443Z
UID:10000914-1780599600-1780605000@www.archizaragoza.org
SUMMARY:Celebración diocesana del Corpus Christi
DESCRIPTION:La catedral basílica del Pilar acogerá la misa pontifical de la solemnidad del Corpus Christi\, presidida por el arzobispo Carlos Escribano. El motivo del cambio de fecha de la celebración es la visita apostólica del papa León XIV a España. \nEn esta ocasión\, Caritas Diocesana participará de la fiesta de un modo especial\, uniéndose a cofradías\, parroquias y colegios\, así como a las autoridades locales. \nTras la celebración de la eucaristía\, comenzará la procesión eucarística con el siguiente recorrido: plaza del Pilar\, Alfonso I\, Méndez Núñez\, Don Jaime I y plaza de la Seo. Será en la catedral del Salvador donde el Arzobispo imparta la bendición con el Santísimo Sacramento.
URL:https://www.archizaragoza.org/evento/celebracion-diocesana-del-corpus-christi
LOCATION:Basílica del Pilar
ORGANIZER;CN="Cabildo Metropolitano":MAILTO:basilicadelpilar@gmail.com
END:VEVENT
BEGIN:VEVENT
DTSTART;TZID=Europe/Madrid:20260604T200000
DTEND;TZID=Europe/Madrid:20260604T210000
DTSTAMP:20260423T005228
CREATED:20260218T130112Z
LAST-MODIFIED:20260218T130112Z
UID:10000859-1780603200-1780606800@www.archizaragoza.org
SUMMARY:Oficio por la unidad de los cristianos
DESCRIPTION:
URL:https://www.archizaragoza.org/evento/oficio-por-la-unidad-de-los-cristianos
LOCATION:Catedral del Salvador -La Seo-\, Plaza de la Seo\, 4\, Zaragoza
GEO:41.65463;-0.87564
X-APPLE-STRUCTURED-LOCATION;VALUE=URI;X-ADDRESS=Catedral del Salvador -La Seo- Plaza de la Seo 4 Zaragoza;X-APPLE-RADIUS=500;X-TITLE=Plaza de la Seo\, 4:geo:-0.87564,41.65463
END:VEVENT
BEGIN:VEVENT
DTSTART;VALUE=DATE:20260607
DTEND;VALUE=DATE:20260608
DTSTAMP:20260423T005228
CREATED:20250808T082756Z
LAST-MODIFIED:20250808T082756Z
UID:10000671-1780790400-1780876799@www.archizaragoza.org
SUMMARY:Celebración Corpus Christi. Colecta a favor de Cáritas
DESCRIPTION:
URL:https://www.archizaragoza.org/evento/celebracion-corpus-christi-colecta-a-favor-de-caritas
END:VEVENT
BEGIN:VEVENT
DTSTART;VALUE=DATE:20260609
DTEND;VALUE=DATE:20260610
DTSTAMP:20260423T005228
CREATED:20250808T082920Z
LAST-MODIFIED:20250808T082920Z
UID:10000672-1780963200-1781049599@www.archizaragoza.org
SUMMARY:Día Internacional de los Archivos
DESCRIPTION:
URL:https://www.archizaragoza.org/evento/dia-internacional-de-los-archivos
END:VEVENT
BEGIN:VEVENT
DTSTART;TZID=Europe/Madrid:20260612T000000
DTEND;TZID=Europe/Madrid:20260612T000000
DTSTAMP:20260423T005228
CREATED:20250808T082955Z
LAST-MODIFIED:20250808T082955Z
UID:10000673-1781222400-1781222400@www.archizaragoza.org
SUMMARY:Consejo Presbiteral
DESCRIPTION:
URL:https://www.archizaragoza.org/evento/consejo-presbiteral-5
END:VEVENT
BEGIN:VEVENT
DTSTART;TZID=Europe/Madrid:20260613T000000
DTEND;TZID=Europe/Madrid:20260613T000000
DTSTAMP:20260423T005228
CREATED:20250808T084443Z
LAST-MODIFIED:20250808T084443Z
UID:10000674-1781308800-1781308800@www.archizaragoza.org
SUMMARY:Consejo Diocesano de Pastoral
DESCRIPTION:
URL:https://www.archizaragoza.org/evento/consejo-diocesano-de-pastoral-5
END:VEVENT
BEGIN:VEVENT
DTSTART;TZID=Europe/Madrid:20260613T100000
DTEND;TZID=Europe/Madrid:20260613T120000
DTSTAMP:20260423T005228
CREATED:20251215T093807Z
LAST-MODIFIED:20251215T093807Z
UID:10000733-1781344800-1781352000@www.archizaragoza.org
SUMMARY:Orar al ritmo del Espíritu
DESCRIPTION:Organiza: Canonesas del Santo Sepulcro. \nMañanas de reflexion \, silencio y contemplación en una Iglesia sinodal \nSegundábado de mes hasta junio de 2026
URL:https://www.archizaragoza.org/evento/orar-al-ritmo-del-espiritu/2026-06-13
LOCATION:Canonesas del Santo Sepulcro\, Don Teobaldo\, 3\, Zaragoza
ORGANIZER;CN="Canonesas del Santo Sepulcro":MAILTO:infocanonesas@gmail.com
GEO:41.6535776;-0.8724143
X-APPLE-STRUCTURED-LOCATION;VALUE=URI;X-ADDRESS=Canonesas del Santo Sepulcro Don Teobaldo 3 Zaragoza;X-APPLE-RADIUS=500;X-TITLE=Don Teobaldo\, 3:geo:-0.8724143,41.6535776
END:VEVENT
BEGIN:VEVENT
DTSTART;TZID=Europe/Madrid:20260613T100000
DTEND;TZID=Europe/Madrid:20260613T133000
DTSTAMP:20260423T005228
CREATED:20260221T091734Z
LAST-MODIFIED:20260221T091734Z
UID:10000873-1781344800-1781357400@www.archizaragoza.org
SUMMARY:Tiempo de encuentro: un espacio de silencio donde poder dejar lugar al encuentro con Dios
DESCRIPTION:Desde la Casa de Espiritualidad Quinta Julieta se ofrece la posibilidad de un tiempo de retiro.\nContacto: 976272150 – 618950032\nCorreo electrónico: quintajulieta@arzobispadodezaragoza.org  \nSi quieres alargar tu tiempo de retiro\, por 10 €  puedes quedarte a comer (previa reserva)
URL:https://www.archizaragoza.org/evento/tiempo-de-encuentro-un-espacio-de-silencio-donde-poder-dejar-lugar-al-encuentro-con-dios/2026-06-13
LOCATION:Quinta Julieta\, Paseo del Canal\, 144\, Zaragoza
GEO:41.6260745;-0.8711379
X-APPLE-STRUCTURED-LOCATION;VALUE=URI;X-ADDRESS=Quinta Julieta Paseo del Canal 144 Zaragoza;X-APPLE-RADIUS=500;X-TITLE=Paseo del Canal\, 144:geo:-0.8711379,41.6260745
END:VEVENT
BEGIN:VEVENT
DTSTART;VALUE=DATE:20260619
DTEND;VALUE=DATE:20260622
DTSTAMP:20260423T005228
CREATED:20260316T104547Z
LAST-MODIFIED:20260316T104547Z
UID:10000885-1781827200-1782086399@www.archizaragoza.org
SUMMARY:Ejercicios Espirituales: “Vosotros orad así: Padre Nuestro…”
DESCRIPTION:Dirigido por: D. Juan Sebastián Teruel\nContacto e inscripción:\nTino 9762722150 / 618950032\nquintajulieta@arzobispadodezaragoza.org\nPaseo del Canal 144\, 50007 – Zaragoza
URL:https://www.archizaragoza.org/evento/ejercicios-espirituales-vosotros-orad-asi-padre-nuestro
LOCATION:Quinta Julieta\, Paseo del Canal\, 144\, Zaragoza
GEO:41.6260745;-0.8711379
X-APPLE-STRUCTURED-LOCATION;VALUE=URI;X-ADDRESS=Quinta Julieta Paseo del Canal 144 Zaragoza;X-APPLE-RADIUS=500;X-TITLE=Paseo del Canal\, 144:geo:-0.8711379,41.6260745
END:VEVENT
BEGIN:VEVENT
DTSTART;TZID=Europe/Madrid:20260622T000000
DTEND;TZID=Europe/Madrid:20260626T000000
DTSTAMP:20260423T005228
CREATED:20250808T084700Z
LAST-MODIFIED:20250808T084700Z
UID:10000675-1782086400-1782432000@www.archizaragoza.org
SUMMARY:Curso de formación bíblica
DESCRIPTION:
URL:https://www.archizaragoza.org/evento/curso-de-formacion-biblica
END:VEVENT
BEGIN:VEVENT
DTSTART;VALUE=DATE:20260622
DTEND;VALUE=DATE:20260629
DTSTAMP:20260423T005228
CREATED:20260316T104803Z
LAST-MODIFIED:20260316T104803Z
UID:10000886-1782086400-1782691199@www.archizaragoza.org
SUMMARY:Ejercicios Espirituales: “Una luz en la noche del alma. Enseñanzas de San Juan de la Cruz para la vida espiritual”.
DESCRIPTION:Dirigido por: D. Eduardo Sanz de Miguel\, OCD\nContacto e inscripción:\nTino 9762722150 / 618950032\nquintajulieta@arzobispadodezaragoza.org\nPaseo del Canal 144\, 50007 – Zaragoza
URL:https://www.archizaragoza.org/evento/ejercicios-espirituales-una-luz-en-la-noche-del-alma-ensenanzas-de-san-juan-de-la-cruz-para-la-vida-espiritual
LOCATION:Quinta Julieta\, Paseo del Canal\, 144\, Zaragoza
GEO:41.6260745;-0.8711379
X-APPLE-STRUCTURED-LOCATION;VALUE=URI;X-ADDRESS=Quinta Julieta Paseo del Canal 144 Zaragoza;X-APPLE-RADIUS=500;X-TITLE=Paseo del Canal\, 144:geo:-0.8711379,41.6260745
END:VEVENT
BEGIN:VEVENT
DTSTART;VALUE=DATE:20260626
DTEND;VALUE=DATE:20260629
DTSTAMP:20260423T005228
CREATED:20250808T085218Z
LAST-MODIFIED:20250808T085218Z
UID:10000676-1782432000-1782691199@www.archizaragoza.org
SUMMARY:Escuela de verano de catequistas
DESCRIPTION:
URL:https://www.archizaragoza.org/evento/escuela-de-verano-de-catequistas
LOCATION:Peralta de la Sal\, Peralta de la Sal\, Huesca
GEO:41.9941727;0.3851316
END:VEVENT
BEGIN:VEVENT
DTSTART;VALUE=DATE:20260706
DTEND;VALUE=DATE:20260713
DTSTAMP:20260423T005228
CREATED:20260316T105123Z
LAST-MODIFIED:20260316T105123Z
UID:10000888-1783296000-1783900799@www.archizaragoza.org
SUMMARY:Ejercicios Espirituales: “Ignacianos en la vida diaria. Semana de introducción con ACHEESIL”
DESCRIPTION:Dirigido por: Asociación Chércoles Ejercicios Espirituales de San Ignacio de Loyola.\nContacto e inscripción:\nTino 9762722150 / 618950032\nquintajulieta@arzobispadodezaragoza.org\nPaseo del Canal 144\, 50007 – Zaragoza
URL:https://www.archizaragoza.org/evento/ejercicios-espirituales-ignacianos-en-la-vida-diaria-semana-de-introduccion-con-acheesil
LOCATION:Quinta Julieta\, Paseo del Canal\, 144\, Zaragoza
GEO:41.6260745;-0.8711379
X-APPLE-STRUCTURED-LOCATION;VALUE=URI;X-ADDRESS=Quinta Julieta Paseo del Canal 144 Zaragoza;X-APPLE-RADIUS=500;X-TITLE=Paseo del Canal\, 144:geo:-0.8711379,41.6260745
END:VEVENT
BEGIN:VEVENT
DTSTART;TZID=Europe/Madrid:20260706T080000
DTEND;TZID=Europe/Madrid:20260712T170000
DTSTAMP:20260423T005228
CREATED:20260316T104916Z
LAST-MODIFIED:20260316T104916Z
UID:10000887-1783324800-1783875600@www.archizaragoza.org
SUMMARY:Ejercicios Espirituales: “Ardientemente he deseado comer esta Pascua con vosotros” (Lc 22\, 15)”
DESCRIPTION:Dirigido por: D. Sergio Pérez\nContacto e inscripción:\nTino 9762722150 / 618950032\nquintajulieta@arzobispadodezaragoza.org\nPaseo del Canal 144\, 50007 – Zaragoza
URL:https://www.archizaragoza.org/evento/ejercicios-espirituales-ardientemente-he-deseado-comer-esta-pascua-con-vosotros-lc-22-15
LOCATION:Quinta Julieta\, Paseo del Canal\, 144\, Zaragoza
GEO:41.6260745;-0.8711379
X-APPLE-STRUCTURED-LOCATION;VALUE=URI;X-ADDRESS=Quinta Julieta Paseo del Canal 144 Zaragoza;X-APPLE-RADIUS=500;X-TITLE=Paseo del Canal\, 144:geo:-0.8711379,41.6260745
END:VEVENT
BEGIN:VEVENT
DTSTART;VALUE=DATE:20260708
DTEND;VALUE=DATE:20260712
DTSTAMP:20260423T005228
CREATED:20250808T085440Z
LAST-MODIFIED:20250808T085440Z
UID:10000677-1783468800-1783814399@www.archizaragoza.org
SUMMARY:Peregrinación Diocesana a Lourdes
DESCRIPTION:
URL:https://www.archizaragoza.org/evento/peregrinacion-diocesana-a-lourdes
LOCATION:Santuario de Lourdes
ORGANIZER;CN="Pastoral de la salud":MAILTO:psaludzaragoza@gmail.com
END:VEVENT
BEGIN:VEVENT
DTSTART;TZID=Europe/Madrid:20260713T000000
DTEND;TZID=Europe/Madrid:20260713T000000
DTSTAMP:20260423T005228
CREATED:20250808T085641Z
LAST-MODIFIED:20250808T085641Z
UID:10000678-1783900800-1783900800@www.archizaragoza.org
SUMMARY:Día de los Misioneros Diocesanos Zaragozanos
DESCRIPTION:Festividad de San Ignacio Clemente Delgado O.P.
URL:https://www.archizaragoza.org/evento/dia-de-los-misioneros-diocesanos-zaragozanos
END:VEVENT
BEGIN:VEVENT
DTSTART;VALUE=DATE:20260724
DTEND;VALUE=DATE:20260727
DTSTAMP:20260423T005228
CREATED:20260316T105231Z
LAST-MODIFIED:20260316T105231Z
UID:10000889-1784851200-1785110399@www.archizaragoza.org
SUMMARY:Ejercicios Espirituales: “Cuidar la Casa Común: Camino de conversión ecológica”
DESCRIPTION:Dirigido por: D. José Ignacio García\, Sj.\nContacto e inscripción:\nTino 9762722150 / 618950032\nquintajulieta@arzobispadodezaragoza.org\nPaseo del Canal 144\, 50007 – Zaragoza
URL:https://www.archizaragoza.org/evento/ejercicios-espirituales-cuidar-la-casa-comun-camino-de-conversion-ecologica
LOCATION:Quinta Julieta\, Paseo del Canal\, 144\, Zaragoza
GEO:41.6260745;-0.8711379
X-APPLE-STRUCTURED-LOCATION;VALUE=URI;X-ADDRESS=Quinta Julieta Paseo del Canal 144 Zaragoza;X-APPLE-RADIUS=500;X-TITLE=Paseo del Canal\, 144:geo:-0.8711379,41.6260745
END:VEVENT
BEGIN:VEVENT
DTSTART;VALUE=DATE:20260726
DTEND;VALUE=DATE:20260727
DTSTAMP:20260423T005228
CREATED:20250808T085713Z
LAST-MODIFIED:20250808T085713Z
UID:10000679-1785024000-1785110399@www.archizaragoza.org
SUMMARY:Jornada Mundial de los abuelos y las personas mayores
DESCRIPTION:
URL:https://www.archizaragoza.org/evento/jornada-mundial-de-los-abuelos-y-las-personas-mayores
END:VEVENT
BEGIN:VEVENT
DTSTART;VALUE=DATE:20260731
DTEND;VALUE=DATE:20260803
DTSTAMP:20260423T005228
CREATED:20260316T105323Z
LAST-MODIFIED:20260316T105323Z
UID:10000890-1785456000-1785715199@www.archizaragoza.org
SUMMARY:Ejercicios Espirituales: “Acompañados/as por el resucitado en el camino de la vida”
DESCRIPTION:Dirigido por: Dña. Lola Arrieta\nContacto e inscripción:\nTino 9762722150 / 618950032\nquintajulieta@arzobispadodezaragoza.org\nPaseo del Canal 144\, 50007 – Zaragoza
URL:https://www.archizaragoza.org/evento/ejercicios-espirituales-acompanados-as-por-el-resucitado-en-el-camino-de-la-vida
LOCATION:Quinta Julieta\, Paseo del Canal\, 144\, Zaragoza
GEO:41.6260745;-0.8711379
X-APPLE-STRUCTURED-LOCATION;VALUE=URI;X-ADDRESS=Quinta Julieta Paseo del Canal 144 Zaragoza;X-APPLE-RADIUS=500;X-TITLE=Paseo del Canal\, 144:geo:-0.8711379,41.6260745
END:VEVENT
BEGIN:VEVENT
DTSTART;TZID=Europe/Madrid:20260810T000000
DTEND;TZID=Europe/Madrid:20260816T000000
DTSTAMP:20260423T005228
CREATED:20250808T085819Z
LAST-MODIFIED:20250808T085819Z
UID:10000680-1786320000-1786838400@www.archizaragoza.org
SUMMARY:Campamento de familias en Pineta
DESCRIPTION:
URL:https://www.archizaragoza.org/evento/campamento-de-familias-en-pineta
END:VEVENT
END:VCALENDAR