BEGIN:VCALENDAR
VERSION:2.0
PRODID:-//Archizaragoza - ECPv6.15.18//NONSGML v1.0//EN
CALSCALE:GREGORIAN
METHOD:PUBLISH
X-ORIGINAL-URL:https://www.archizaragoza.org
X-WR-CALDESC:Eventos para Archizaragoza
REFRESH-INTERVAL;VALUE=DURATION:PT1H
X-Robots-Tag:noindex
X-PUBLISHED-TTL:PT1H
BEGIN:VTIMEZONE
TZID:Europe/Madrid
BEGIN:DAYLIGHT
TZOFFSETFROM:+0100
TZOFFSETTO:+0200
TZNAME:CEST
DTSTART:20250330T010000
END:DAYLIGHT
BEGIN:STANDARD
TZOFFSETFROM:+0200
TZOFFSETTO:+0100
TZNAME:CET
DTSTART:20251026T010000
END:STANDARD
BEGIN:DAYLIGHT
TZOFFSETFROM:+0100
TZOFFSETTO:+0200
TZNAME:CEST
DTSTART:20260329T010000
END:DAYLIGHT
BEGIN:STANDARD
TZOFFSETFROM:+0200
TZOFFSETTO:+0100
TZNAME:CET
DTSTART:20261025T010000
END:STANDARD
BEGIN:DAYLIGHT
TZOFFSETFROM:+0100
TZOFFSETTO:+0200
TZNAME:CEST
DTSTART:20270328T010000
END:DAYLIGHT
BEGIN:STANDARD
TZOFFSETFROM:+0200
TZOFFSETTO:+0100
TZNAME:CET
DTSTART:20271031T010000
END:STANDARD
END:VTIMEZONE
BEGIN:VEVENT
DTSTART;VALUE=DATE:20260518
DTEND;VALUE=DATE:20260519
DTSTAMP:20260423T002911
CREATED:20250808T073712Z
LAST-MODIFIED:20250808T073712Z
UID:10000660-1779062400-1779148799@www.archizaragoza.org
SUMMARY:Día Internacional de los Museos
DESCRIPTION:
URL:https://www.archizaragoza.org/evento/dia-internacional-de-los-museos
LOCATION:Museo Alma Mater\, Plaza de la Seo\, 6\, Zaragoza
ORGANIZER;CN="Alma Mater Museum":MAILTO:info@almamatermuseum.com
GEO:41.6558012;-0.8760417
X-APPLE-STRUCTURED-LOCATION;VALUE=URI;X-ADDRESS=Museo Alma Mater Plaza de la Seo 6 Zaragoza;X-APPLE-RADIUS=500;X-TITLE=Plaza de la Seo\, 6:geo:-0.8760417,41.6558012
END:VEVENT
BEGIN:VEVENT
DTSTART;TZID=Europe/Madrid:20260516T100000
DTEND;TZID=Europe/Madrid:20260516T160000
DTSTAMP:20260423T002911
CREATED:20260221T094305Z
LAST-MODIFIED:20260221T094305Z
UID:10000875-1778925600-1778947200@www.archizaragoza.org
SUMMARY:Talleres de Arte y Oración: «Florecerán tus desiertos»
DESCRIPTION:Gus&Flowers una de las floristerías más innovadoras y sostenibles del país\, nos ofrece la oportunidad de crear un centro de flores\, donde cada parte del mismo cobra un significado litúrgico. La tierra y la vida como expresión de Pascua. \nPrecio: 65 € comida incluida.\nContacto: 976272150 – 618950032\nCorreo electrónico: quintajulieta@arzobispadodezaragoza.org
URL:https://www.archizaragoza.org/evento/talleres-de-arte-y-oracion-floreceran-tus-desiertos
LOCATION:Quinta Julieta\, Paseo del Canal\, 144\, Zaragoza
GEO:41.6260745;-0.8711379
X-APPLE-STRUCTURED-LOCATION;VALUE=URI;X-ADDRESS=Quinta Julieta Paseo del Canal 144 Zaragoza;X-APPLE-RADIUS=500;X-TITLE=Paseo del Canal\, 144:geo:-0.8711379,41.6260745
END:VEVENT
BEGIN:VEVENT
DTSTART;TZID=Europe/Madrid:20260514T193000
DTEND;TZID=Europe/Madrid:20260514T203000
DTSTAMP:20260423T002911
CREATED:20260422T103458Z
LAST-MODIFIED:20260422T103525Z
UID:10000918-1778787000-1778790600@www.archizaragoza.org
SUMMARY:El nuevo mapa de la fe juvenil
DESCRIPTION:El Foro Baltasar Gracián organiza «Una conversación con…» Julio Llorente\, Abel de Jesús y Álvaro Lobo SJ abordan uno de los asuntos de máxima actualidad: Por qué los jóvenes vuelven la vista a lo sagrado \nEntrada libre hasta completar aforo \n 
URL:https://www.archizaragoza.org/evento/el-nuevo-mapa-de-la-fe-juvenil
LOCATION:Centro Pignatelli\, Paseo de la Constitución 6\, Zaragoza
GEO:41.6475814;-0.8837438
X-APPLE-STRUCTURED-LOCATION;VALUE=URI;X-ADDRESS=Centro Pignatelli Paseo de la Constitución 6 Zaragoza;X-APPLE-RADIUS=500;X-TITLE=Paseo de la Constitución 6:geo:-0.8837438,41.6475814
END:VEVENT
BEGIN:VEVENT
DTSTART;TZID=Europe/Madrid:20260513T000000
DTEND;TZID=Europe/Madrid:20260513T000000
DTSTAMP:20260423T002911
CREATED:20250808T073623Z
LAST-MODIFIED:20250808T073623Z
UID:10000659-1778630400-1778630400@www.archizaragoza.org
SUMMARY:Graduación de los alumnos del CRETA y del ISCRNP
DESCRIPTION:
URL:https://www.archizaragoza.org/evento/graduacion-de-los-alumnos-del-creta-y-del-iscrnp-2
LOCATION:CRETA\, Ronda Hispanidad\, 10\, Zaragoza
GEO:41.6302135;-0.9022092
X-APPLE-STRUCTURED-LOCATION;VALUE=URI;X-ADDRESS=CRETA Ronda Hispanidad 10 Zaragoza;X-APPLE-RADIUS=500;X-TITLE=Ronda Hispanidad\, 10:geo:-0.9022092,41.6302135
END:VEVENT
BEGIN:VEVENT
DTSTART;TZID=Europe/Madrid:20260513T000000
DTEND;TZID=Europe/Madrid:20260513T000000
DTSTAMP:20260423T002911
CREATED:20250808T073324Z
LAST-MODIFIED:20250808T073324Z
UID:10000658-1778630400-1778630400@www.archizaragoza.org
SUMMARY:Peregrinación de todas las parroquias de la Vicaría I al Pilar.
DESCRIPTION:
URL:https://www.archizaragoza.org/evento/peregrinacion-de-todas-las-parroquias-de-la-vicaria-i-al-pilar-2
LOCATION:Basílica del Pilar
END:VEVENT
BEGIN:VEVENT
DTSTART;TZID=Europe/Madrid:20260513T000000
DTEND;TZID=Europe/Madrid:20260513T000000
DTSTAMP:20260423T002911
CREATED:20250808T073216Z
LAST-MODIFIED:20250808T073216Z
UID:10000657-1778630400-1778630400@www.archizaragoza.org
SUMMARY:Día de la Virgen de Fátima\, patrona de Ayuda a la Iglesia Necesitada.
DESCRIPTION:Rosario en la Basílica de Santa Engracia
URL:https://www.archizaragoza.org/evento/dia-de-la-virgen-de-fatima-patrona-de-ayuda-a-la-iglesia-necesitada-2
LOCATION:Basílica Santa Engracia
END:VEVENT
BEGIN:VEVENT
DTSTART;TZID=Europe/Madrid:20260511T190000
DTEND;TZID=Europe/Madrid:20260511T200000
DTSTAMP:20260423T002911
CREATED:20260422T101445Z
LAST-MODIFIED:20260422T101445Z
UID:10000916-1778526000-1778529600@www.archizaragoza.org
SUMMARY:LA MISIÓN DE LOS CRISTIANOS  EN LA VIDA PÚBLICA
DESCRIPTION:Formación-Reflexión de la mano de Fernando Vidal\, director de la cátedra Amoris Laetitia \nPresencial y online \nEn colaboración con las delegaciones de Apostolado Seglar de Aragón
URL:https://www.archizaragoza.org/evento/la-mision-de-los-cristianos-en-la-vida-publica
LOCATION:CRETA\, Ronda Hispanidad\, 10\, Zaragoza
GEO:41.6302135;-0.9022092
X-APPLE-STRUCTURED-LOCATION;VALUE=URI;X-ADDRESS=CRETA Ronda Hispanidad 10 Zaragoza;X-APPLE-RADIUS=500;X-TITLE=Ronda Hispanidad\, 10:geo:-0.9022092,41.6302135
END:VEVENT
BEGIN:VEVENT
DTSTART;VALUE=DATE:20260510
DTEND;VALUE=DATE:20260511
DTSTAMP:20260423T002911
CREATED:20250808T073117Z
LAST-MODIFIED:20250808T073117Z
UID:10000656-1778371200-1778457599@www.archizaragoza.org
SUMMARY:Pascua del Enfermo
DESCRIPTION:Celebración del Sacramento de la Unción de Enfermos em Hospitales\, Parroquias\, Residencias.
URL:https://www.archizaragoza.org/evento/pascua-del-enfermo-2
ORGANIZER;CN="Pastoral de la salud":MAILTO:psaludzaragoza@gmail.com
END:VEVENT
BEGIN:VEVENT
DTSTART;TZID=Europe/Madrid:20260509T100000
DTEND;TZID=Europe/Madrid:20260509T120000
DTSTAMP:20260423T002911
CREATED:20251215T093807Z
LAST-MODIFIED:20251215T093807Z
UID:10000732-1778320800-1778328000@www.archizaragoza.org
SUMMARY:Orar al ritmo del Espíritu
DESCRIPTION:Organiza: Canonesas del Santo Sepulcro. \nMañanas de reflexion \, silencio y contemplación en una Iglesia sinodal \nSegundábado de mes hasta junio de 2026
URL:https://www.archizaragoza.org/evento/orar-al-ritmo-del-espiritu/2026-05-09
LOCATION:Canonesas del Santo Sepulcro\, Don Teobaldo\, 3\, Zaragoza
ORGANIZER;CN="Canonesas del Santo Sepulcro":MAILTO:infocanonesas@gmail.com
GEO:41.6535776;-0.8724143
X-APPLE-STRUCTURED-LOCATION;VALUE=URI;X-ADDRESS=Canonesas del Santo Sepulcro Don Teobaldo 3 Zaragoza;X-APPLE-RADIUS=500;X-TITLE=Don Teobaldo\, 3:geo:-0.8724143,41.6535776
END:VEVENT
BEGIN:VEVENT
DTSTART;TZID=Europe/Madrid:20260507T200000
DTEND;TZID=Europe/Madrid:20260507T210000
DTSTAMP:20260423T002911
CREATED:20260218T130030Z
LAST-MODIFIED:20260218T130444Z
UID:10000858-1778184000-1778187600@www.archizaragoza.org
SUMMARY:Oficio por la unidad de los cristianos en la parroquia del Portillo
DESCRIPTION:
URL:https://www.archizaragoza.org/evento/oficio-por-la-unidad-de-los-cristianos-en-la-parroquia-del-portillo
LOCATION:Parroquia del Portillo\, Plaza Portillo\, 11\, Zaragoza
GEO:41.6556203;-0.8930472
X-APPLE-STRUCTURED-LOCATION;VALUE=URI;X-ADDRESS=Parroquia del Portillo Plaza Portillo 11 Zaragoza;X-APPLE-RADIUS=500;X-TITLE=Plaza Portillo\, 11:geo:-0.8930472,41.6556203
END:VEVENT
BEGIN:VEVENT
DTSTART;TZID=Europe/Madrid:20260507T000000
DTEND;TZID=Europe/Madrid:20260507T000000
DTSTAMP:20260423T002911
CREATED:20250808T073030Z
LAST-MODIFIED:20250808T073030Z
UID:10000655-1778112000-1778112000@www.archizaragoza.org
SUMMARY:Romería al Santuario de Torreciudad – Internos de Zuera y Daroca
DESCRIPTION:
URL:https://www.archizaragoza.org/evento/romeria-al-santuario-de-torreciudad-internos-de-zuera-y-daroca
END:VEVENT
BEGIN:VEVENT
DTSTART;TZID=Europe/Madrid:20260502T100000
DTEND;TZID=Europe/Madrid:20260502T133000
DTSTAMP:20260423T002911
CREATED:20260221T091734Z
LAST-MODIFIED:20260221T091734Z
UID:10000872-1777716000-1777728600@www.archizaragoza.org
SUMMARY:Tiempo de encuentro: un espacio de silencio donde poder dejar lugar al encuentro con Dios
DESCRIPTION:Desde la Casa de Espiritualidad Quinta Julieta se ofrece la posibilidad de un tiempo de retiro.\nContacto: 976272150 – 618950032\nCorreo electrónico: quintajulieta@arzobispadodezaragoza.org  \nSi quieres alargar tu tiempo de retiro\, por 10 €  puedes quedarte a comer (previa reserva)
URL:https://www.archizaragoza.org/evento/tiempo-de-encuentro-un-espacio-de-silencio-donde-poder-dejar-lugar-al-encuentro-con-dios/2026-05-02
LOCATION:Quinta Julieta\, Paseo del Canal\, 144\, Zaragoza
GEO:41.6260745;-0.8711379
X-APPLE-STRUCTURED-LOCATION;VALUE=URI;X-ADDRESS=Quinta Julieta Paseo del Canal 144 Zaragoza;X-APPLE-RADIUS=500;X-TITLE=Paseo del Canal\, 144:geo:-0.8711379,41.6260745
END:VEVENT
BEGIN:VEVENT
DTSTART;TZID=Europe/Madrid:20260429T190000
DTEND;TZID=Europe/Madrid:20260429T200000
DTSTAMP:20260423T002911
CREATED:20260415T100818Z
LAST-MODIFIED:20260415T100818Z
UID:10000912-1777489200-1777492800@www.archizaragoza.org
SUMMARY:Eucaristía Día del Trabajo
DESCRIPTION:
URL:https://www.archizaragoza.org/evento/eucaristia-dia-del-trabajo
LOCATION:centro de  Hermandades del trabajo\, C/ Padre Manjón\, 4
END:VEVENT
BEGIN:VEVENT
DTSTART;TZID=Europe/Madrid:20260429T183000
DTEND;TZID=Europe/Madrid:20260429T193000
DTSTAMP:20260423T002911
CREATED:20260421T182219Z
LAST-MODIFIED:20260421T182219Z
UID:10000915-1777487400-1777491000@www.archizaragoza.org
SUMMARY:Conferencia de Economía Ecológica en el CRETA
DESCRIPTION:El CRETA organiza de la mano de la Delegación de Ecología Intregral una nueva conferencia sobre Economía Ecológica\, de la mano de Félix Revilla que nos presentará «Estilos de vida sencillos»
URL:https://www.archizaragoza.org/evento/conferencia-de-economia-ecologica-en-el-creta
LOCATION:CRETA\, Ronda Hispanidad\, 10\, Zaragoza
GEO:41.6302135;-0.9022092
X-APPLE-STRUCTURED-LOCATION;VALUE=URI;X-ADDRESS=CRETA Ronda Hispanidad 10 Zaragoza;X-APPLE-RADIUS=500;X-TITLE=Ronda Hispanidad\, 10:geo:-0.9022092,41.6302135
END:VEVENT
BEGIN:VEVENT
DTSTART;TZID=Europe/Madrid:20260427T193000
DTEND;TZID=Europe/Madrid:20260427T193000
DTSTAMP:20260423T002911
CREATED:20260422T102833Z
LAST-MODIFIED:20260422T102907Z
UID:10000917-1777318200-1777318200@www.archizaragoza.org
SUMMARY:Eucaristía por la dignidad de las personas y la protección de la creación
DESCRIPTION:Unidos a la Conferencia de Santa Marta \n 
URL:https://www.archizaragoza.org/evento/eucaristia-por-la-dignidad-de-las-personas-y-la-proteccion-de-la-creacion
LOCATION:Iglesia de San Nicolás\, Plaza de San Nicolás 3\, Zaragoza
GEO:41.6540006;-0.8725465
X-APPLE-STRUCTURED-LOCATION;VALUE=URI;X-ADDRESS=Iglesia de San Nicolás Plaza de San Nicolás 3 Zaragoza;X-APPLE-RADIUS=500;X-TITLE=Plaza de San Nicolás 3:geo:-0.8725465,41.6540006
END:VEVENT
BEGIN:VEVENT
DTSTART;TZID=Europe/Madrid:20260427T180000
DTEND;TZID=Europe/Madrid:20260427T190000
DTSTAMP:20260423T002911
CREATED:20260415T095913Z
LAST-MODIFIED:20260415T095913Z
UID:10000910-1777312800-1777316400@www.archizaragoza.org
SUMMARY:Taller de Poesía Mística
DESCRIPTION:El carácter purificativo de la poesía mística. Análisis de poemas. Ponente: Izara Batres. Ganadora del XXXIV Premio Mundial de Poesía Mística.
URL:https://www.archizaragoza.org/evento/taller-de-poesia-mistica
LOCATION:CRETA\, Ronda Hispanidad\, 10\, Zaragoza
GEO:41.6302135;-0.9022092
X-APPLE-STRUCTURED-LOCATION;VALUE=URI;X-ADDRESS=CRETA Ronda Hispanidad 10 Zaragoza;X-APPLE-RADIUS=500;X-TITLE=Ronda Hispanidad\, 10:geo:-0.9022092,41.6302135
END:VEVENT
BEGIN:VEVENT
DTSTART;VALUE=DATE:20260427
DTEND;VALUE=DATE:20260430
DTSTAMP:20260423T002911
CREATED:20250806T104815Z
LAST-MODIFIED:20260217T074924Z
UID:10000631-1777248000-1777507199@www.archizaragoza.org
SUMMARY:EXPOCARISMA “El reto de presentar a Cristo construyendo fraternidad”
DESCRIPTION:
URL:https://www.archizaragoza.org/evento/expocarisma-el-reto-de-presentar-a-cristo-construyendo-fraternidad
END:VEVENT
BEGIN:VEVENT
DTSTART;VALUE=DATE:20260426
DTEND;VALUE=DATE:20260427
DTSTAMP:20260423T002911
CREATED:20250807T114111Z
LAST-MODIFIED:20250807T114111Z
UID:10000654-1777161600-1777247999@www.archizaragoza.org
SUMMARY:Jornada mundial de oración por las vocaciones y vocaciones nativas
DESCRIPTION:
URL:https://www.archizaragoza.org/evento/jornada-mundial-de-oracion-por-las-vocaciones-y-vocaciones-nativas-2
END:VEVENT
BEGIN:VEVENT
DTSTART;TZID=Europe/Madrid:20260425T100000
DTEND;TZID=Europe/Madrid:20260425T133000
DTSTAMP:20260423T002911
CREATED:20260221T091734Z
LAST-MODIFIED:20260221T091734Z
UID:10000871-1777111200-1777123800@www.archizaragoza.org
SUMMARY:Tiempo de encuentro: un espacio de silencio donde poder dejar lugar al encuentro con Dios
DESCRIPTION:Desde la Casa de Espiritualidad Quinta Julieta se ofrece la posibilidad de un tiempo de retiro.\nContacto: 976272150 – 618950032\nCorreo electrónico: quintajulieta@arzobispadodezaragoza.org  \nSi quieres alargar tu tiempo de retiro\, por 10 €  puedes quedarte a comer (previa reserva)
URL:https://www.archizaragoza.org/evento/tiempo-de-encuentro-un-espacio-de-silencio-donde-poder-dejar-lugar-al-encuentro-con-dios/2026-04-25
LOCATION:Quinta Julieta\, Paseo del Canal\, 144\, Zaragoza
GEO:41.6260745;-0.8711379
X-APPLE-STRUCTURED-LOCATION;VALUE=URI;X-ADDRESS=Quinta Julieta Paseo del Canal 144 Zaragoza;X-APPLE-RADIUS=500;X-TITLE=Paseo del Canal\, 144:geo:-0.8711379,41.6260745
END:VEVENT
BEGIN:VEVENT
DTSTART;TZID=Europe/Madrid:20260424T210000
DTEND;TZID=Europe/Madrid:20260424T213000
DTSTAMP:20260423T002911
CREATED:20250807T114029Z
LAST-MODIFIED:20260415T093331Z
UID:10000653-1777064400-1777066200@www.archizaragoza.org
SUMMARY:Vigilia de oración por las vocaciones y vocaciones nativas
DESCRIPTION:
URL:https://www.archizaragoza.org/evento/vigilia-de-oracion-por-las-vocaciones-y-vocaciones-nativas
LOCATION:Basílica del Pilar
END:VEVENT
BEGIN:VEVENT
DTSTART;TZID=Europe/Madrid:20260422T183000
DTEND;TZID=Europe/Madrid:20260422T193000
DTSTAMP:20260423T002911
CREATED:20260130T115125Z
LAST-MODIFIED:20260130T115125Z
UID:10000843-1776882600-1776886200@www.archizaragoza.org
SUMMARY:Curso de formación litúrgica
DESCRIPTION:Destinado a miembros de los grupos de liturgia de las parroquias y a todos los que deseen recibir formación como lectores y acólitos al servicio de nuestras comunidades\nProfesor: P. Luis Marco Sus\nMás información: campusteologiacreta.com | 621 227 591
URL:https://www.archizaragoza.org/evento/curso-de-formacion-liturgica/2026-04-22
LOCATION:CRETA\, Ronda Hispanidad\, 10\, Zaragoza
GEO:41.6302135;-0.9022092
X-APPLE-STRUCTURED-LOCATION;VALUE=URI;X-ADDRESS=CRETA Ronda Hispanidad 10 Zaragoza;X-APPLE-RADIUS=500;X-TITLE=Ronda Hispanidad\, 10:geo:-0.9022092,41.6302135
END:VEVENT
BEGIN:VEVENT
DTSTART;TZID=Europe/Madrid:20260422T173000
DTEND;TZID=Europe/Madrid:20260422T183000
DTSTAMP:20260423T002911
CREATED:20260112T132243Z
LAST-MODIFIED:20260112T135334Z
UID:10000755-1776879000-1776882600@www.archizaragoza.org
SUMMARY:Escuela de Pastoral de la Salud
DESCRIPTION:Dirigido a Profesionales de la Salud\, LARES\, Agentes de Pastoral de la Salud\, Sacerdotes\, Religiosos/sas y todas aquellas personas interesadas en esta Pastoral. \nModalidad Presencial: 25 euros\nOnline: 20 euros
URL:https://www.archizaragoza.org/evento/escuela-de-pastoral-de-la-salud-2/2026-04-22
LOCATION:Casa de la Iglesia\, Plaza de la Seo\, 6\, Zaragoza\, 50001
ORGANIZER;CN="Pastoral de la salud":MAILTO:psaludzaragoza@gmail.com
GEO:41.6558012;-0.8760417
X-APPLE-STRUCTURED-LOCATION;VALUE=URI;X-ADDRESS=Casa de la Iglesia Plaza de la Seo 6 Zaragoza 50001;X-APPLE-RADIUS=500;X-TITLE=Plaza de la Seo\, 6:geo:-0.8760417,41.6558012
END:VEVENT
BEGIN:VEVENT
DTSTART;TZID=Europe/Madrid:20260420T190000
DTEND;TZID=Europe/Madrid:20260420T203000
DTSTAMP:20260423T002911
CREATED:20260415T100141Z
LAST-MODIFIED:20260415T100543Z
UID:10000911-1776711600-1776717000@www.archizaragoza.org
SUMMARY:Espacio de Reflexión y Diálogo
DESCRIPTION:Re-pensar la Espiritualidad en Tiempos de Incertidumbre (2) \nJOSÉ MARÍA VIGIL: ¿QUÉ ESPIRITUALIDAD PROMOVER?
URL:https://www.archizaragoza.org/evento/espacio-de-reflexion-y-dialogo
LOCATION:Centro Joaquín Roncal\, Calle San Braulio 5-7\, Zaragoza
GEO:41.6546864;-0.879386
X-APPLE-STRUCTURED-LOCATION;VALUE=URI;X-ADDRESS=Centro Joaquín Roncal Calle San Braulio 5-7 Zaragoza;X-APPLE-RADIUS=500;X-TITLE=Calle San Braulio 5-7:geo:-0.879386,41.6546864
END:VEVENT
BEGIN:VEVENT
DTSTART;TZID=Europe/Madrid:20260419T120000
DTEND;TZID=Europe/Madrid:20260419T170000
DTSTAMP:20260423T002911
CREATED:20260415T093745Z
LAST-MODIFIED:20260415T093745Z
UID:10000909-1776600000-1776618000@www.archizaragoza.org
SUMMARY:Encuentro de Familias Vicaría 3
DESCRIPTION:Enfoque: Fomentar la unidad parroquial\, la catequesis familiar y la participación de niños\, padres y abuelos.\nActividades: Eucaristía\, actividades infantiles (con grupos scout)\, vermuts solidarios y puesta en común de actividades pastorales.
URL:https://www.archizaragoza.org/evento/encuentro-de-familias-vicaria-3
LOCATION:Parroquia de la Presentación de la Virgen\, Avda. Juan Pablo II\, Zaragoza
GEO:41.640764;-0.9101942
X-APPLE-STRUCTURED-LOCATION;VALUE=URI;X-ADDRESS=Parroquia de la Presentación de la Virgen Avda. Juan Pablo II Zaragoza;X-APPLE-RADIUS=500;X-TITLE=Avda. Juan Pablo II:geo:-0.9101942,41.640764
END:VEVENT
BEGIN:VEVENT
DTSTART;TZID=Europe/Madrid:20260418T000000
DTEND;TZID=Europe/Madrid:20260418T000000
DTSTAMP:20260423T002911
CREATED:20250807T113938Z
LAST-MODIFIED:20250807T113938Z
UID:10000652-1776470400-1776470400@www.archizaragoza.org
SUMMARY:Encuentro regional de formación Cáritas Aragón.
DESCRIPTION:
URL:https://www.archizaragoza.org/evento/encuentro-regional-de-formacion-caritas-aragon-2
LOCATION:Ciudad Escolar Ramón Pignatelli\, C/ Jarque del Moncayo\, 17\, Zaragoza\, 50012
ORGANIZER;CN="C%C3%A1ritas diocesana de Zaragoza":MAILTO:info@caritas-zaragoza.es
END:VEVENT
BEGIN:VEVENT
DTSTART;TZID=Europe/Madrid:20260415T183000
DTEND;TZID=Europe/Madrid:20260415T193000
DTSTAMP:20260423T002911
CREATED:20260415T092212Z
LAST-MODIFIED:20260415T092321Z
UID:10000908-1776277800-1776281400@www.archizaragoza.org
SUMMARY:Ciclo de Conferencias Ecología Integral
DESCRIPTION:Imanol Zubero (sociólogo de la Universidad del Pais Vasco) hablará en el CRETA de Economía Ecológica
URL:https://www.archizaragoza.org/evento/ciclo-de-conferencias-ecologia-integral
LOCATION:CRETA\, Ronda Hispanidad\, 10\, Zaragoza
GEO:41.6302135;-0.9022092
X-APPLE-STRUCTURED-LOCATION;VALUE=URI;X-ADDRESS=CRETA Ronda Hispanidad 10 Zaragoza;X-APPLE-RADIUS=500;X-TITLE=Ronda Hispanidad\, 10:geo:-0.9022092,41.6302135
END:VEVENT
BEGIN:VEVENT
DTSTART;TZID=Europe/Madrid:20260411T100000
DTEND;TZID=Europe/Madrid:20260411T120000
DTSTAMP:20260423T002911
CREATED:20251215T093807Z
LAST-MODIFIED:20251215T093807Z
UID:10000731-1775901600-1775908800@www.archizaragoza.org
SUMMARY:Orar al ritmo del Espíritu
DESCRIPTION:Organiza: Canonesas del Santo Sepulcro. \nMañanas de reflexion \, silencio y contemplación en una Iglesia sinodal \nSegundábado de mes hasta junio de 2026
URL:https://www.archizaragoza.org/evento/orar-al-ritmo-del-espiritu/2026-04-11
LOCATION:Canonesas del Santo Sepulcro\, Don Teobaldo\, 3\, Zaragoza
ORGANIZER;CN="Canonesas del Santo Sepulcro":MAILTO:infocanonesas@gmail.com
GEO:41.6535776;-0.8724143
X-APPLE-STRUCTURED-LOCATION;VALUE=URI;X-ADDRESS=Canonesas del Santo Sepulcro Don Teobaldo 3 Zaragoza;X-APPLE-RADIUS=500;X-TITLE=Don Teobaldo\, 3:geo:-0.8724143,41.6535776
END:VEVENT
BEGIN:VEVENT
DTSTART;TZID=Europe/Madrid:20260408T173000
DTEND;TZID=Europe/Madrid:20260408T183000
DTSTAMP:20260423T002911
CREATED:20260112T132243Z
LAST-MODIFIED:20260112T135334Z
UID:10000754-1775669400-1775673000@www.archizaragoza.org
SUMMARY:Escuela de Pastoral de la Salud
DESCRIPTION:Dirigido a Profesionales de la Salud\, LARES\, Agentes de Pastoral de la Salud\, Sacerdotes\, Religiosos/sas y todas aquellas personas interesadas en esta Pastoral. \nModalidad Presencial: 25 euros\nOnline: 20 euros
URL:https://www.archizaragoza.org/evento/escuela-de-pastoral-de-la-salud-2/2026-04-08
LOCATION:Casa de la Iglesia\, Plaza de la Seo\, 6\, Zaragoza\, 50001
ORGANIZER;CN="Pastoral de la salud":MAILTO:psaludzaragoza@gmail.com
GEO:41.6558012;-0.8760417
X-APPLE-STRUCTURED-LOCATION;VALUE=URI;X-ADDRESS=Casa de la Iglesia Plaza de la Seo 6 Zaragoza 50001;X-APPLE-RADIUS=500;X-TITLE=Plaza de la Seo\, 6:geo:-0.8760417,41.6558012
END:VEVENT
BEGIN:VEVENT
DTSTART;TZID=Europe/Madrid:20260405T123000
DTEND;TZID=Europe/Madrid:20260405T133000
DTSTAMP:20260423T002911
CREATED:20260324T083701Z
LAST-MODIFIED:20260324T083701Z
UID:10000903-1775392200-1775395800@www.archizaragoza.org
SUMMARY:Domingo de Pascua de la Resurrección del Señor\, comienza la Octava de Pascua
DESCRIPTION:12.30. Misa estacional.
URL:https://www.archizaragoza.org/evento/domingo-de-pascua-de-la-resurreccion-del-senor-comienza-la-octava-de-pascua
LOCATION:Catedral del Salvador -La Seo-\, Plaza de la Seo\, 4\, Zaragoza
ORGANIZER;CN="Cabildo Metropolitano":MAILTO:basilicadelpilar@gmail.com
GEO:41.65463;-0.87564
X-APPLE-STRUCTURED-LOCATION;VALUE=URI;X-ADDRESS=Catedral del Salvador -La Seo- Plaza de la Seo 4 Zaragoza;X-APPLE-RADIUS=500;X-TITLE=Plaza de la Seo\, 4:geo:-0.87564,41.65463
END:VEVENT
BEGIN:VEVENT
DTSTART;VALUE=DATE:20260405
DTEND;VALUE=DATE:20260406
DTSTAMP:20260423T002911
CREATED:20250807T113508Z
LAST-MODIFIED:20250807T113508Z
UID:10000651-1775347200-1775433599@www.archizaragoza.org
SUMMARY:DOMINGO DE RESURRECCIÓN
DESCRIPTION:
URL:https://www.archizaragoza.org/evento/domingo-de-resurreccion-2
END:VEVENT
END:VCALENDAR