BEGIN:VCALENDAR
VERSION:2.0
PRODID:-//Archizaragoza - ECPv6.15.18//NONSGML v1.0//EN
CALSCALE:GREGORIAN
METHOD:PUBLISH
X-ORIGINAL-URL:https://www.archizaragoza.org
X-WR-CALDESC:Eventos para Archizaragoza
REFRESH-INTERVAL;VALUE=DURATION:PT1H
X-Robots-Tag:noindex
X-PUBLISHED-TTL:PT1H
BEGIN:VTIMEZONE
TZID:Europe/Madrid
BEGIN:DAYLIGHT
TZOFFSETFROM:+0100
TZOFFSETTO:+0200
TZNAME:CEST
DTSTART:20250330T010000
END:DAYLIGHT
BEGIN:STANDARD
TZOFFSETFROM:+0200
TZOFFSETTO:+0100
TZNAME:CET
DTSTART:20251026T010000
END:STANDARD
BEGIN:DAYLIGHT
TZOFFSETFROM:+0100
TZOFFSETTO:+0200
TZNAME:CEST
DTSTART:20260329T010000
END:DAYLIGHT
BEGIN:STANDARD
TZOFFSETFROM:+0200
TZOFFSETTO:+0100
TZNAME:CET
DTSTART:20261025T010000
END:STANDARD
BEGIN:DAYLIGHT
TZOFFSETFROM:+0100
TZOFFSETTO:+0200
TZNAME:CEST
DTSTART:20270328T010000
END:DAYLIGHT
BEGIN:STANDARD
TZOFFSETFROM:+0200
TZOFFSETTO:+0100
TZNAME:CET
DTSTART:20271031T010000
END:STANDARD
END:VTIMEZONE
BEGIN:VEVENT
DTSTART;TZID=Europe/Madrid:20260216T183000
DTEND;TZID=Europe/Madrid:20260216T193000
DTSTAMP:20260423T001817
CREATED:20260130T115731Z
LAST-MODIFIED:20260130T115740Z
UID:10000845-1771266600-1771270200@www.archizaragoza.org
SUMMARY:"Profetas anteriores. Mujeres profetas"
DESCRIPTION:Imparte: Gema López-Menchero\nSegunda sesión del curso «Voces de Dios en tiempos difíciles. Los profetas del Antiguo Testamento».\nEntrada libre hasta completar aforo\nMás información: campusteologiacreta.com | 621 227 591
URL:https://www.archizaragoza.org/evento/profetas-anteriores-mujeres-profetas
LOCATION:CRETA\, Ronda Hispanidad\, 10\, Zaragoza
GEO:41.6302135;-0.9022092
X-APPLE-STRUCTURED-LOCATION;VALUE=URI;X-ADDRESS=CRETA Ronda Hispanidad 10 Zaragoza;X-APPLE-RADIUS=500;X-TITLE=Ronda Hispanidad\, 10:geo:-0.9022092,41.6302135
END:VEVENT
BEGIN:VEVENT
DTSTART;TZID=Europe/Madrid:20260216T190000
DTEND;TZID=Europe/Madrid:20260216T200000
DTSTAMP:20260423T001817
CREATED:20260206T110120Z
LAST-MODIFIED:20260206T110120Z
UID:10000856-1771268400-1771272000@www.archizaragoza.org
SUMMARY:Semana del Matrimonio: Presentación del nuevo itinerario para matrimonios
DESCRIPTION:16 de febrero: a las 19:00\, en el CRETA (Ronda Hispanidad\, 10)\, presentación del nuevo itinerario formativo para matrimonios\, ampliando así la formación online del CRETA. Inaugura Mons. D. Carlos Escribano\, Arzobispo de Zaragoza. ¡Formación para amar más y mejor!
URL:https://www.archizaragoza.org/evento/semana-del-matrimonio-presentacion-del-nuevo-itinerario-para-matrimonios
LOCATION:CRETA\, Ronda Hispanidad\, 10\, Zaragoza
GEO:41.6302135;-0.9022092
X-APPLE-STRUCTURED-LOCATION;VALUE=URI;X-ADDRESS=CRETA Ronda Hispanidad 10 Zaragoza;X-APPLE-RADIUS=500;X-TITLE=Ronda Hispanidad\, 10:geo:-0.9022092,41.6302135
END:VEVENT
BEGIN:VEVENT
DTSTART;TZID=Europe/Madrid:20260218T173000
DTEND;TZID=Europe/Madrid:20260218T183000
DTSTAMP:20260423T001817
CREATED:20260112T132243Z
LAST-MODIFIED:20260112T135334Z
UID:10000751-1771435800-1771439400@www.archizaragoza.org
SUMMARY:Escuela de Pastoral de la Salud
DESCRIPTION:Dirigido a Profesionales de la Salud\, LARES\, Agentes de Pastoral de la Salud\, Sacerdotes\, Religiosos/sas y todas aquellas personas interesadas en esta Pastoral. \nModalidad Presencial: 25 euros\nOnline: 20 euros
URL:https://www.archizaragoza.org/evento/escuela-de-pastoral-de-la-salud-2/2026-02-18
LOCATION:Casa de la Iglesia\, Plaza de la Seo\, 6\, Zaragoza\, 50001
ORGANIZER;CN="Pastoral de la salud":MAILTO:psaludzaragoza@gmail.com
GEO:41.6558012;-0.8760417
X-APPLE-STRUCTURED-LOCATION;VALUE=URI;X-ADDRESS=Casa de la Iglesia Plaza de la Seo 6 Zaragoza 50001;X-APPLE-RADIUS=500;X-TITLE=Plaza de la Seo\, 6:geo:-0.8760417,41.6558012
END:VEVENT
BEGIN:VEVENT
DTSTART;TZID=Europe/Madrid:20260218T183000
DTEND;TZID=Europe/Madrid:20260218T193000
DTSTAMP:20260423T001817
CREATED:20260130T115125Z
LAST-MODIFIED:20260130T115125Z
UID:10000840-1771439400-1771443000@www.archizaragoza.org
SUMMARY:Curso de formación litúrgica
DESCRIPTION:Destinado a miembros de los grupos de liturgia de las parroquias y a todos los que deseen recibir formación como lectores y acólitos al servicio de nuestras comunidades\nProfesor: P. Luis Marco Sus\nMás información: campusteologiacreta.com | 621 227 591
URL:https://www.archizaragoza.org/evento/curso-de-formacion-liturgica/2026-02-18
LOCATION:CRETA\, Ronda Hispanidad\, 10\, Zaragoza
GEO:41.6302135;-0.9022092
X-APPLE-STRUCTURED-LOCATION;VALUE=URI;X-ADDRESS=CRETA Ronda Hispanidad 10 Zaragoza;X-APPLE-RADIUS=500;X-TITLE=Ronda Hispanidad\, 10:geo:-0.9022092,41.6302135
END:VEVENT
BEGIN:VEVENT
DTSTART;TZID=Europe/Madrid:20260219T180000
DTEND;TZID=Europe/Madrid:20260219T190000
DTSTAMP:20260423T001817
CREATED:20260130T114545Z
LAST-MODIFIED:20260130T120732Z
UID:10000784-1771524000-1771527600@www.archizaragoza.org
SUMMARY:Cristianos en un mundo de inteligencia artifical
DESCRIPTION:5\, 12\, 19 y 26 de febrero\n18:00 h.\nCRETA\nImparte: Francisco Genova\, director del CRETA\nAsistencia como oyente: entrada gratuito\nCon derecho a Diploma con trabajo final: 44€\nMás información: campusteologiacreta.com | 621 227 591
URL:https://www.archizaragoza.org/evento/cristianos-en-un-mundo-de-inteligencia-artifical/2026-02-19
LOCATION:CRETA\, Ronda Hispanidad\, 10\, Zaragoza
GEO:41.6302135;-0.9022092
X-APPLE-STRUCTURED-LOCATION;VALUE=URI;X-ADDRESS=CRETA Ronda Hispanidad 10 Zaragoza;X-APPLE-RADIUS=500;X-TITLE=Ronda Hispanidad\, 10:geo:-0.9022092,41.6302135
END:VEVENT
BEGIN:VEVENT
DTSTART;TZID=Europe/Madrid:20260220T000000
DTEND;TZID=Europe/Madrid:20260220T000000
DTSTAMP:20260423T001817
CREATED:20250818T090105Z
LAST-MODIFIED:20250818T090105Z
UID:10000687-1771545600-1771545600@www.archizaragoza.org
SUMMARY:Via Crucis de la Junta Coordinadora
DESCRIPTION:
URL:https://www.archizaragoza.org/evento/via-crucis-de-la-junta-coordinadora
ORGANIZER;CN="Delegaci%C3%B3n de Cofrad%C3%ADas":MAILTO:depacoszgz@gmail.com
END:VEVENT
BEGIN:VEVENT
DTSTART;VALUE=DATE:20260220
DTEND;VALUE=DATE:20260223
DTSTAMP:20260423T001817
CREATED:20250806T104633Z
LAST-MODIFIED:20250806T104633Z
UID:10000629-1771545600-1771804799@www.archizaragoza.org
SUMMARY:Ejercicios espirituales para catequistas
DESCRIPTION:
URL:https://www.archizaragoza.org/evento/ejercicios-espirituales-para-catequistas
LOCATION:Quinta Julieta\, Paseo del Canal\, 144\, Zaragoza
GEO:41.6260745;-0.8711379
X-APPLE-STRUCTURED-LOCATION;VALUE=URI;X-ADDRESS=Quinta Julieta Paseo del Canal 144 Zaragoza;X-APPLE-RADIUS=500;X-TITLE=Paseo del Canal\, 144:geo:-0.8711379,41.6260745
END:VEVENT
BEGIN:VEVENT
DTSTART;VALUE=DATE:20260220
DTEND;VALUE=DATE:20260223
DTSTAMP:20260423T001817
CREATED:20260114T093011Z
LAST-MODIFIED:20260302T095918Z
UID:10000772-1771545600-1771804799@www.archizaragoza.org
SUMMARY:Ejercicios Espirituales para catequistas
DESCRIPTION:Este año nos acompañará la religiosa experta en Biblia\, Estela Aldave. Los EE serán en régimen cerrado y en silencio\, los días 20-22 de Febrero en la Casa de Espiritualidad de la Quinta Julieta (La inscripción antes del 16 de Febrero).
URL:https://www.archizaragoza.org/evento/ejercicios-espirituales-para-catequistas-2
LOCATION:Quinta Julieta\, Paseo del Canal\, 144\, Zaragoza
GEO:41.6260745;-0.8711379
X-APPLE-STRUCTURED-LOCATION;VALUE=URI;X-ADDRESS=Quinta Julieta Paseo del Canal 144 Zaragoza;X-APPLE-RADIUS=500;X-TITLE=Paseo del Canal\, 144:geo:-0.8711379,41.6260745
END:VEVENT
BEGIN:VEVENT
DTSTART;TZID=Europe/Madrid:20260221T100000
DTEND;TZID=Europe/Madrid:20260221T133000
DTSTAMP:20260423T001817
CREATED:20260221T091734Z
LAST-MODIFIED:20260221T091734Z
UID:10000869-1771668000-1771680600@www.archizaragoza.org
SUMMARY:Tiempo de encuentro: un espacio de silencio donde poder dejar lugar al encuentro con Dios
DESCRIPTION:Desde la Casa de Espiritualidad Quinta Julieta se ofrece la posibilidad de un tiempo de retiro.\nContacto: 976272150 – 618950032\nCorreo electrónico: quintajulieta@arzobispadodezaragoza.org  \nSi quieres alargar tu tiempo de retiro\, por 10 €  puedes quedarte a comer (previa reserva)
URL:https://www.archizaragoza.org/evento/tiempo-de-encuentro-un-espacio-de-silencio-donde-poder-dejar-lugar-al-encuentro-con-dios/2026-02-21
LOCATION:Quinta Julieta\, Paseo del Canal\, 144\, Zaragoza
GEO:41.6260745;-0.8711379
X-APPLE-STRUCTURED-LOCATION;VALUE=URI;X-ADDRESS=Quinta Julieta Paseo del Canal 144 Zaragoza;X-APPLE-RADIUS=500;X-TITLE=Paseo del Canal\, 144:geo:-0.8711379,41.6260745
END:VEVENT
BEGIN:VEVENT
DTSTART;TZID=Europe/Madrid:20260221T110000
DTEND;TZID=Europe/Madrid:20260221T120000
DTSTAMP:20260423T001817
CREATED:20250807T104531Z
LAST-MODIFIED:20260302T101024Z
UID:10000640-1771671600-1771675200@www.archizaragoza.org
SUMMARY:Vía Crucis en el C. P. Daroca con la Cofradía del Señor Atado a la Columna.
DESCRIPTION:
URL:https://www.archizaragoza.org/evento/via-crucis-en-el-c-p-daroca-con-la-cofradia-del-senor-atado-a-la-columna
LOCATION:Centro Penitenciario de Daroca
END:VEVENT
BEGIN:VEVENT
DTSTART;VALUE=DATE:20260222
DTEND;VALUE=DATE:20260223
DTSTAMP:20260423T001817
CREATED:20250806T104734Z
LAST-MODIFIED:20250806T104734Z
UID:10000630-1771718400-1771804799@www.archizaragoza.org
SUMMARY:I DOMINGO DE CUARESMA
DESCRIPTION:
URL:https://www.archizaragoza.org/evento/i-domingo-de-cuaresma-2
END:VEVENT
END:VCALENDAR