BEGIN:VCALENDAR
VERSION:2.0
PRODID:-//Archizaragoza - ECPv6.15.18//NONSGML v1.0//EN
CALSCALE:GREGORIAN
METHOD:PUBLISH
X-WR-CALNAME:Archizaragoza
X-ORIGINAL-URL:https://www.archizaragoza.org
X-WR-CALDESC:Eventos para Archizaragoza
REFRESH-INTERVAL;VALUE=DURATION:PT1H
X-Robots-Tag:noindex
X-PUBLISHED-TTL:PT1H
BEGIN:VTIMEZONE
TZID:Europe/Madrid
BEGIN:DAYLIGHT
TZOFFSETFROM:+0100
TZOFFSETTO:+0200
TZNAME:CEST
DTSTART:20250330T010000
END:DAYLIGHT
BEGIN:STANDARD
TZOFFSETFROM:+0200
TZOFFSETTO:+0100
TZNAME:CET
DTSTART:20251026T010000
END:STANDARD
BEGIN:DAYLIGHT
TZOFFSETFROM:+0100
TZOFFSETTO:+0200
TZNAME:CEST
DTSTART:20260329T010000
END:DAYLIGHT
BEGIN:STANDARD
TZOFFSETFROM:+0200
TZOFFSETTO:+0100
TZNAME:CET
DTSTART:20261025T010000
END:STANDARD
BEGIN:DAYLIGHT
TZOFFSETFROM:+0100
TZOFFSETTO:+0200
TZNAME:CEST
DTSTART:20270328T010000
END:DAYLIGHT
BEGIN:STANDARD
TZOFFSETFROM:+0200
TZOFFSETTO:+0100
TZNAME:CET
DTSTART:20271031T010000
END:STANDARD
END:VTIMEZONE
BEGIN:VEVENT
DTSTART;TZID=Europe/Madrid:20260223T183000
DTEND;TZID=Europe/Madrid:20260223T193000
DTSTAMP:20260422T195641
CREATED:20260130T115849Z
LAST-MODIFIED:20260130T115849Z
UID:10000846-1771871400-1771875000@www.archizaragoza.org
SUMMARY:"El profeta Isaías (1ª parte)"
DESCRIPTION:Imparte: Mª Jesús Jerez\nTercera sesión del curso «Voces de Dios en tiempos difíciles. Los profetas del Antiguo Testamento».\nEntrada libre hasta completar aforo\nMás información: campusteologiacreta.com | 621 227 591
URL:https://www.archizaragoza.org/evento/el-profeta-isaias-1a-parte
LOCATION:CRETA\, Ronda Hispanidad\, 10\, Zaragoza
GEO:41.6302135;-0.9022092
X-APPLE-STRUCTURED-LOCATION;VALUE=URI;X-ADDRESS=CRETA Ronda Hispanidad 10 Zaragoza;X-APPLE-RADIUS=500;X-TITLE=Ronda Hispanidad\, 10:geo:-0.9022092,41.6302135
END:VEVENT
BEGIN:VEVENT
DTSTART;TZID=Europe/Madrid:20260223T193000
DTEND;TZID=Europe/Madrid:20260225T203000
DTSTAMP:20260422T195641
CREATED:20260221T081711Z
LAST-MODIFIED:20260221T081711Z
UID:10000861-1771875000-1772051400@www.archizaragoza.org
SUMMARY:Charlas Cuaresmales: "Mira\, pues\, que la luz que hay en ti no sea oscuridad". Lc 11\,35
DESCRIPTION:A cargo de D. Rubén Ruiz Silleras\nVicario General
URL:https://www.archizaragoza.org/evento/charlas-cuaresmales-mira-pues-que-la-luz-que-hay-en-ti-no-sea-oscuridad-lc-1135
ORGANIZER;CN="Cabildo Metropolitano":MAILTO:basilicadelpilar@gmail.com
END:VEVENT
BEGIN:VEVENT
DTSTART;TZID=Europe/Madrid:20260224T190000
DTEND;TZID=Europe/Madrid:20260224T200000
DTSTAMP:20260422T195641
CREATED:20260221T081421Z
LAST-MODIFIED:20260221T081421Z
UID:10000860-1771959600-1771963200@www.archizaragoza.org
SUMMARY:Ciclo de la Sinodalidad: "Corresponsabilidad y misión. Los consejos pastorales".
DESCRIPTION:Conferencia de D. Sergio Pérez Baena\nProfesor del CRETA y Vicario de Pastoral\nPresentación de don experiencias.
URL:https://www.archizaragoza.org/evento/ciclo-de-la-sinodalidad-corresponsabilidad-y-mision-los-consejos-pastorales
LOCATION:CRETA\, Ronda Hispanidad\, 10\, Zaragoza
GEO:41.6302135;-0.9022092
X-APPLE-STRUCTURED-LOCATION;VALUE=URI;X-ADDRESS=CRETA Ronda Hispanidad 10 Zaragoza;X-APPLE-RADIUS=500;X-TITLE=Ronda Hispanidad\, 10:geo:-0.9022092,41.6302135
END:VEVENT
BEGIN:VEVENT
DTSTART;TZID=Europe/Madrid:20260226T180000
DTEND;TZID=Europe/Madrid:20260226T190000
DTSTAMP:20260422T195641
CREATED:20260130T114801Z
LAST-MODIFIED:20260130T114801Z
UID:10000785-1772128800-1772132400@www.archizaragoza.org
SUMMARY:Cristianos en un mundo de inteligencia artifical
DESCRIPTION:5\, 12\, 19 y 26 de febrero\n18:00 h.\nCRETA\nImparte: Francisco Genova\, director del CRETA\nAsistencia como oyente: entrada gratuito\nCon derecho a Diploma con trabajo final: 44€\nMás información: campusteologiacreta.com | 621 227 591
URL:https://www.archizaragoza.org/evento/cristianos-en-un-mundo-de-inteligencia-artifical-2
LOCATION:CRETA\, Ronda Hispanidad\, 10\, Zaragoza
GEO:41.6302135;-0.9022092
X-APPLE-STRUCTURED-LOCATION;VALUE=URI;X-ADDRESS=CRETA Ronda Hispanidad 10 Zaragoza;X-APPLE-RADIUS=500;X-TITLE=Ronda Hispanidad\, 10:geo:-0.9022092,41.6302135
END:VEVENT
BEGIN:VEVENT
DTSTART;TZID=Europe/Madrid:20260227T193000
DTEND;TZID=Europe/Madrid:20260227T203000
DTSTAMP:20260422T195641
CREATED:20260221T082020Z
LAST-MODIFIED:20260221T082020Z
UID:10000862-1772220600-1772224200@www.archizaragoza.org
SUMMARY:Vía Crucis
DESCRIPTION:Acompaña: Real Cofradía de Jesús Nazareno
URL:https://www.archizaragoza.org/evento/via-crucis
LOCATION:Catedral del Salvador -La Seo-\, Plaza de la Seo\, 4\, Zaragoza
ORGANIZER;CN="Cabildo Metropolitano":MAILTO:basilicadelpilar@gmail.com
GEO:41.65463;-0.87564
X-APPLE-STRUCTURED-LOCATION;VALUE=URI;X-ADDRESS=Catedral del Salvador -La Seo- Plaza de la Seo 4 Zaragoza;X-APPLE-RADIUS=500;X-TITLE=Plaza de la Seo\, 4:geo:-0.87564,41.65463
END:VEVENT
BEGIN:VEVENT
DTSTART;TZID=Europe/Madrid:20260227T200000
DTEND;TZID=Europe/Madrid:20260227T210000
DTSTAMP:20260422T195641
CREATED:20260221T095319Z
LAST-MODIFIED:20260221T095319Z
UID:10000876-1772222400-1772226000@www.archizaragoza.org
SUMMARY:Vía Crucis en San Cayetano
DESCRIPTION:Se portará el Cristo de la Caridad y del Santo Sepulcro.\nOrganiza: Cofradía de Nuestra Señora de la Puedad y del Santo Sepulcro
URL:https://www.archizaragoza.org/evento/via-crucis-en-san-cayetano
LOCATION:Iglesia de Santa Isabel de Portugal\, Plaza de la Justicia\, 1\, ZARAGOZA\, 50003\, España
END:VEVENT
BEGIN:VEVENT
DTSTART;VALUE=DATE:20260301
DTEND;VALUE=DATE:20260302
DTSTAMP:20260422T195641
CREATED:20250807T101019Z
LAST-MODIFIED:20250807T101019Z
UID:10000632-1772323200-1772409599@www.archizaragoza.org
SUMMARY:II DOMINGO DE CUARESMA
DESCRIPTION:
URL:https://www.archizaragoza.org/evento/ii-domingo-de-cuaresma-2
END:VEVENT
BEGIN:VEVENT
DTSTART;VALUE=DATE:20260301
DTEND;VALUE=DATE:20260302
DTSTAMP:20260422T195641
CREATED:20250807T101346Z
LAST-MODIFIED:20250807T101346Z
UID:10000633-1772323200-1772409599@www.archizaragoza.org
SUMMARY:Día de Hispanoamérica y O.C.S.H.A
DESCRIPTION:
URL:https://www.archizaragoza.org/evento/dia-de-hispanoamerica-y-o-c-s-h-a-2
END:VEVENT
BEGIN:VEVENT
DTSTART;TZID=Europe/Madrid:20260301T180000
DTEND;TZID=Europe/Madrid:20260301T200000
DTSTAMP:20260422T195641
CREATED:20250807T101656Z
LAST-MODIFIED:20260221T082443Z
UID:10000634-1772388000-1772395200@www.archizaragoza.org
SUMMARY:Encuentro de Oración Misión y Contemplación
DESCRIPTION:Organizan: Canonesas\, Nazarenas\, Comunidad Cristiana Latina de San Juan de los Panetes\, SCAM y delegación episcopal de misiones.
URL:https://www.archizaragoza.org/evento/encuentro-de-oracion-mision-y-contemplacion-8
LOCATION:Canonesas del Santo Sepulcro\, Don Teobaldo\, 3\, Zaragoza
ORGANIZER;CN="Canonesas del Santo Sepulcro":MAILTO:infocanonesas@gmail.com
GEO:41.6535776;-0.8724143
X-APPLE-STRUCTURED-LOCATION;VALUE=URI;X-ADDRESS=Canonesas del Santo Sepulcro Don Teobaldo 3 Zaragoza;X-APPLE-RADIUS=500;X-TITLE=Don Teobaldo\, 3:geo:-0.8724143,41.6535776
END:VEVENT
END:VCALENDAR