BEGIN:VCALENDAR
VERSION:2.0
PRODID:-//Archizaragoza - ECPv6.15.18//NONSGML v1.0//EN
CALSCALE:GREGORIAN
METHOD:PUBLISH
X-WR-CALNAME:Archizaragoza
X-ORIGINAL-URL:https://www.archizaragoza.org
X-WR-CALDESC:Eventos para Archizaragoza
REFRESH-INTERVAL;VALUE=DURATION:PT1H
X-Robots-Tag:noindex
X-PUBLISHED-TTL:PT1H
BEGIN:VTIMEZONE
TZID:Europe/Madrid
BEGIN:DAYLIGHT
TZOFFSETFROM:+0100
TZOFFSETTO:+0200
TZNAME:CEST
DTSTART:20250330T010000
END:DAYLIGHT
BEGIN:STANDARD
TZOFFSETFROM:+0200
TZOFFSETTO:+0100
TZNAME:CET
DTSTART:20251026T010000
END:STANDARD
BEGIN:DAYLIGHT
TZOFFSETFROM:+0100
TZOFFSETTO:+0200
TZNAME:CEST
DTSTART:20260329T010000
END:DAYLIGHT
BEGIN:STANDARD
TZOFFSETFROM:+0200
TZOFFSETTO:+0100
TZNAME:CET
DTSTART:20261025T010000
END:STANDARD
BEGIN:DAYLIGHT
TZOFFSETFROM:+0100
TZOFFSETTO:+0200
TZNAME:CEST
DTSTART:20270328T010000
END:DAYLIGHT
BEGIN:STANDARD
TZOFFSETFROM:+0200
TZOFFSETTO:+0100
TZNAME:CET
DTSTART:20271031T010000
END:STANDARD
END:VTIMEZONE
BEGIN:VEVENT
DTSTART;TZID=Europe/Madrid:20260317T190000
DTEND;TZID=Europe/Madrid:20260317T190000
DTSTAMP:20260422T182300
CREATED:20260221T100330Z
LAST-MODIFIED:20260221T100742Z
UID:10000881-1773774000-1773774000@www.archizaragoza.org
SUMMARY:V Ciclo de Conferencias de Pensamiento Cristiano 2025-2026
DESCRIPTION:La duda de fe en la biblia: dos creyentes dudan: Job y Qohelet\nPor: Víctor Morla Asensio\nCoordina: José Alegre Aragües \nEntrada libre hasta completar el aforo.
URL:https://www.archizaragoza.org/evento/v-ciclo-de-conferencias-de-pensamiento-cristiano-2025-2026-3
LOCATION:Centro Joaquín Roncal\, Calle San Braulio 5-7\, Zaragoza
ORGANIZER;CN="Acci%C3%B3n Social Cat%C3%B3lica":MAILTO:asczaragoza@gmail.com
GEO:41.6546864;-0.879386
X-APPLE-STRUCTURED-LOCATION;VALUE=URI;X-ADDRESS=Centro Joaquín Roncal Calle San Braulio 5-7 Zaragoza;X-APPLE-RADIUS=500;X-TITLE=Calle San Braulio 5-7:geo:-0.879386,41.6546864
END:VEVENT
BEGIN:VEVENT
DTSTART;TZID=Europe/Madrid:20260318T173000
DTEND;TZID=Europe/Madrid:20260318T183000
DTSTAMP:20260422T182300
CREATED:20260112T132243Z
LAST-MODIFIED:20260112T135334Z
UID:10000753-1773855000-1773858600@www.archizaragoza.org
SUMMARY:Escuela de Pastoral de la Salud
DESCRIPTION:Dirigido a Profesionales de la Salud\, LARES\, Agentes de Pastoral de la Salud\, Sacerdotes\, Religiosos/sas y todas aquellas personas interesadas en esta Pastoral. \nModalidad Presencial: 25 euros\nOnline: 20 euros
URL:https://www.archizaragoza.org/evento/escuela-de-pastoral-de-la-salud-2/2026-03-18
LOCATION:Casa de la Iglesia\, Plaza de la Seo\, 6\, Zaragoza\, 50001
ORGANIZER;CN="Pastoral de la salud":MAILTO:psaludzaragoza@gmail.com
GEO:41.6558012;-0.8760417
X-APPLE-STRUCTURED-LOCATION;VALUE=URI;X-ADDRESS=Casa de la Iglesia Plaza de la Seo 6 Zaragoza 50001;X-APPLE-RADIUS=500;X-TITLE=Plaza de la Seo\, 6:geo:-0.8760417,41.6558012
END:VEVENT
BEGIN:VEVENT
DTSTART;TZID=Europe/Madrid:20260318T183000
DTEND;TZID=Europe/Madrid:20260318T193000
DTSTAMP:20260422T182300
CREATED:20260130T115125Z
LAST-MODIFIED:20260130T115125Z
UID:10000842-1773858600-1773862200@www.archizaragoza.org
SUMMARY:Curso de formación litúrgica
DESCRIPTION:Destinado a miembros de los grupos de liturgia de las parroquias y a todos los que deseen recibir formación como lectores y acólitos al servicio de nuestras comunidades\nProfesor: P. Luis Marco Sus\nMás información: campusteologiacreta.com | 621 227 591
URL:https://www.archizaragoza.org/evento/curso-de-formacion-liturgica/2026-03-18
LOCATION:CRETA\, Ronda Hispanidad\, 10\, Zaragoza
GEO:41.6302135;-0.9022092
X-APPLE-STRUCTURED-LOCATION;VALUE=URI;X-ADDRESS=CRETA Ronda Hispanidad 10 Zaragoza;X-APPLE-RADIUS=500;X-TITLE=Ronda Hispanidad\, 10:geo:-0.9022092,41.6302135
END:VEVENT
BEGIN:VEVENT
DTSTART;TZID=Europe/Madrid:20260318T193000
DTEND;TZID=Europe/Madrid:20260318T210000
DTSTAMP:20260422T182300
CREATED:20260306T113128Z
LAST-MODIFIED:20260306T113139Z
UID:10000884-1773862200-1773867600@www.archizaragoza.org
SUMMARY:Vigilia de oración por el Día del Seminario
DESCRIPTION:Con motivo de la festividad de San José\, patrono de las vocaciones sacerdotales\, el Seminario Diocesano de Zaragoza abre sus puertas a toda la «familia diocesana» para unirse en oración. Bajo el marco del Día del Seminario\, esta jornada busca pedir por los futuros pastores de nuestra Iglesia y agradecer el don de la vocación. \nLa cita tendrá lugar el próximo miércoles 18 de marzo a las 19:30 h. e incluirá un encuentro posterior con los seminaristas para conocer el día a día de su formación. \nLa celebración se dividirá en dos momentos principales para fomentar tanto la espiritualidad como la convivencia: \n\n\nVigilia de Oración: Comenzará a las 19:30 h. en la Capilla Grande del Seminario. Será un espacio de recogimiento y oración comunitaria por las vocaciones. \n\n\nEncuentro y convivencia: Al finalizar la vigilia (aprox. 20:30 h.)\, se realizará un encuentro informal. Los asistentes podrán conocer las instalaciones del Seminario y compartir un tiempo de charla con los actuales seminaristas\, conociendo de cerca sus inquietudes y su proceso de formación.
URL:https://www.archizaragoza.org/evento/vigilia-de-oracion-por-el-dia-del-semianrio
LOCATION:Seminario Metropolitano\, Ronda Hispanidad\, 10\, Zaragoza
GEO:41.6302135;-0.9022092
X-APPLE-STRUCTURED-LOCATION;VALUE=URI;X-ADDRESS=Seminario Metropolitano Ronda Hispanidad 10 Zaragoza;X-APPLE-RADIUS=500;X-TITLE=Ronda Hispanidad\, 10:geo:-0.9022092,41.6302135
END:VEVENT
BEGIN:VEVENT
DTSTART;TZID=Europe/Madrid:20260319T190000
DTEND;TZID=Europe/Madrid:20260319T210000
DTSTAMP:20260422T182300
CREATED:20260316T105738Z
LAST-MODIFIED:20260316T110008Z
UID:10000891-1773946800-1773954000@www.archizaragoza.org
SUMMARY:Rito de Admisión Canónica e Institución de Ministerios
DESCRIPTION:La comunidad del Seminario Metropolitano de Zaragoza invitan a la Admisión a las Órdenes Sagradas del Seminarista: Peter Adotu y la Recepción de los Ministerios del Lectorado y Acolitado del seminarista: Marco Antonio Gómez Tamayo. \nPreside: D. Carlos Escribano Subías\, Arzobispo de Zaragoza.
URL:https://www.archizaragoza.org/evento/rito-de-admision-canonica-e-institucion-de-ministerios
LOCATION:Parroquia La Asunción de Nuestra Señora – Villamayor\, C. Iglesia Baja\, 8\, Zaragoza\, 50162
END:VEVENT
BEGIN:VEVENT
DTSTART;TZID=Europe/Madrid:20260320T000000
DTEND;TZID=Europe/Madrid:20260320T000000
DTSTAMP:20260422T182300
CREATED:20250807T112138Z
LAST-MODIFIED:20250807T112138Z
UID:10000642-1773964800-1773964800@www.archizaragoza.org
SUMMARY:Consejo Presbiteral
DESCRIPTION:
URL:https://www.archizaragoza.org/evento/consejo-presbiteral-4
END:VEVENT
BEGIN:VEVENT
DTSTART;VALUE=DATE:20260321
DTEND;VALUE=DATE:20260323
DTSTAMP:20260422T182301
CREATED:20250807T112613Z
LAST-MODIFIED:20250807T112613Z
UID:10000643-1774051200-1774223999@www.archizaragoza.org
SUMMARY:Experiencia Josué
DESCRIPTION:
URL:https://www.archizaragoza.org/evento/experiencia-josue
LOCATION:Seminario Diocesano de Tarazona\, Tarazona
GEO:41.9042972;-1.7222535
END:VEVENT
BEGIN:VEVENT
DTSTART;TZID=Europe/Madrid:20260321T100000
DTEND;TZID=Europe/Madrid:20260321T133000
DTSTAMP:20260422T182301
CREATED:20260221T091734Z
LAST-MODIFIED:20260221T091734Z
UID:10000870-1774087200-1774099800@www.archizaragoza.org
SUMMARY:Tiempo de encuentro: un espacio de silencio donde poder dejar lugar al encuentro con Dios
DESCRIPTION:Desde la Casa de Espiritualidad Quinta Julieta se ofrece la posibilidad de un tiempo de retiro.\nContacto: 976272150 – 618950032\nCorreo electrónico: quintajulieta@arzobispadodezaragoza.org  \nSi quieres alargar tu tiempo de retiro\, por 10 €  puedes quedarte a comer (previa reserva)
URL:https://www.archizaragoza.org/evento/tiempo-de-encuentro-un-espacio-de-silencio-donde-poder-dejar-lugar-al-encuentro-con-dios/2026-03-21
LOCATION:Quinta Julieta\, Paseo del Canal\, 144\, Zaragoza
GEO:41.6260745;-0.8711379
X-APPLE-STRUCTURED-LOCATION;VALUE=URI;X-ADDRESS=Quinta Julieta Paseo del Canal 144 Zaragoza;X-APPLE-RADIUS=500;X-TITLE=Paseo del Canal\, 144:geo:-0.8711379,41.6260745
END:VEVENT
BEGIN:VEVENT
DTSTART;VALUE=DATE:20260322
DTEND;VALUE=DATE:20260323
DTSTAMP:20260422T182301
CREATED:20250807T112748Z
LAST-MODIFIED:20250807T112748Z
UID:10000644-1774137600-1774223999@www.archizaragoza.org
SUMMARY:V DOMINGO DE CUARESMA
DESCRIPTION:
URL:https://www.archizaragoza.org/evento/v-domingo-de-cuaresma-2
END:VEVENT
BEGIN:VEVENT
DTSTART;TZID=Europe/Madrid:20260322T193000
DTEND;TZID=Europe/Madrid:20260322T203000
DTSTAMP:20260422T182301
CREATED:20250807T112832Z
LAST-MODIFIED:20260316T113920Z
UID:10000645-1774207800-1774211400@www.archizaragoza.org
SUMMARY:Celebración de los Escrutinios
DESCRIPTION:
URL:https://www.archizaragoza.org/evento/celebracion-de-los-escrutinios-2
LOCATION:Parroquia de la Magdalena\, Plaza de la Magdalena\, 3\, Zaragoza
GEO:41.6523196;-0.8736774
X-APPLE-STRUCTURED-LOCATION;VALUE=URI;X-ADDRESS=Parroquia de la Magdalena Plaza de la Magdalena 3 Zaragoza;X-APPLE-RADIUS=500;X-TITLE=Plaza de la Magdalena\, 3:geo:-0.8736774,41.6523196
END:VEVENT
END:VCALENDAR