BEGIN:VCALENDAR
VERSION:2.0
PRODID:-//Archizaragoza - ECPv6.15.18//NONSGML v1.0//EN
CALSCALE:GREGORIAN
METHOD:PUBLISH
X-WR-CALNAME:Archizaragoza
X-ORIGINAL-URL:https://www.archizaragoza.org
X-WR-CALDESC:Eventos para Archizaragoza
REFRESH-INTERVAL;VALUE=DURATION:PT1H
X-Robots-Tag:noindex
X-PUBLISHED-TTL:PT1H
BEGIN:VTIMEZONE
TZID:Europe/Madrid
BEGIN:DAYLIGHT
TZOFFSETFROM:+0100
TZOFFSETTO:+0200
TZNAME:CEST
DTSTART:20250330T010000
END:DAYLIGHT
BEGIN:STANDARD
TZOFFSETFROM:+0200
TZOFFSETTO:+0100
TZNAME:CET
DTSTART:20251026T010000
END:STANDARD
BEGIN:DAYLIGHT
TZOFFSETFROM:+0100
TZOFFSETTO:+0200
TZNAME:CEST
DTSTART:20260329T010000
END:DAYLIGHT
BEGIN:STANDARD
TZOFFSETFROM:+0200
TZOFFSETTO:+0100
TZNAME:CET
DTSTART:20261025T010000
END:STANDARD
BEGIN:DAYLIGHT
TZOFFSETFROM:+0100
TZOFFSETTO:+0200
TZNAME:CEST
DTSTART:20270328T010000
END:DAYLIGHT
BEGIN:STANDARD
TZOFFSETFROM:+0200
TZOFFSETTO:+0100
TZNAME:CET
DTSTART:20271031T010000
END:STANDARD
END:VTIMEZONE
BEGIN:VEVENT
DTSTART;TZID=Europe/Madrid:20260401T110000
DTEND;TZID=Europe/Madrid:20260401T123000
DTSTAMP:20260422T181433
CREATED:20260324T081436Z
LAST-MODIFIED:20260324T081436Z
UID:10000899-1775041200-1775046600@www.archizaragoza.org
SUMMARY:Miércoles Santo - Misa Crismal
DESCRIPTION:Un momento eclesial que reúne al Obispo junto a sus sacerdotes y a todos los fieles\, en torno a Cristo Sacerdote\, para bendecir los Óleos y consagrar el Santo Crisma que se usan en los sacramentos y donde los sacerdotes renuevan sus promesas sacerdotales.
URL:https://www.archizaragoza.org/evento/miercoles-santo-misa-crismal
LOCATION:Catedral del Salvador -La Seo-\, Plaza de la Seo\, 4\, Zaragoza
ORGANIZER;CN="Cabildo Metropolitano":MAILTO:basilicadelpilar@gmail.com
GEO:41.65463;-0.87564
X-APPLE-STRUCTURED-LOCATION;VALUE=URI;X-ADDRESS=Catedral del Salvador -La Seo- Plaza de la Seo 4 Zaragoza;X-APPLE-RADIUS=500;X-TITLE=Plaza de la Seo\, 4:geo:-0.87564,41.65463
END:VEVENT
BEGIN:VEVENT
DTSTART;VALUE=DATE:20260402
DTEND;VALUE=DATE:20260403
DTSTAMP:20260422T181433
CREATED:20250807T113333Z
LAST-MODIFIED:20250807T113333Z
UID:10000649-1775088000-1775174399@www.archizaragoza.org
SUMMARY:JUEVES SANTO
DESCRIPTION:
URL:https://www.archizaragoza.org/evento/jueves-santo
END:VEVENT
BEGIN:VEVENT
DTSTART;TZID=Europe/Madrid:20260402T180000
DTEND;TZID=Europe/Madrid:20260402T193000
DTSTAMP:20260422T181433
CREATED:20260324T084424Z
LAST-MODIFIED:20260324T084424Z
UID:10000905-1775152800-1775158200@www.archizaragoza.org
SUMMARY:Jueves Santo de la Cena del Señor – Comienzo del Triduo Pascual. Basílica del Pilar
DESCRIPTION:18.00. Misa ‘en la Cena del Señor’
URL:https://www.archizaragoza.org/evento/jueves-santo-de-la-cena-del-senor-comienzo-del-triduo-pascual-basilica-del-pilar
LOCATION:Basílica del Pilar
ORGANIZER;CN="Cabildo Metropolitano":MAILTO:basilicadelpilar@gmail.com
END:VEVENT
BEGIN:VEVENT
DTSTART;TZID=Europe/Madrid:20260402T183000
DTEND;TZID=Europe/Madrid:20260402T200000
DTSTAMP:20260422T181433
CREATED:20260324T081834Z
LAST-MODIFIED:20260324T081834Z
UID:10000900-1775154600-1775160000@www.archizaragoza.org
SUMMARY:Jueves Santo de la Cena del Señor - Comienzo del Triduo Pascual
DESCRIPTION:18.30. Misa ‘en la Cena del Señor’.\n21.30. Hora Santa
URL:https://www.archizaragoza.org/evento/jueves-santo-de-la-cena-del-senor-comienzo-del-triduo-pascual
LOCATION:Catedral del Salvador -La Seo-\, Plaza de la Seo\, 4\, Zaragoza
ORGANIZER;CN="Cabildo Metropolitano":MAILTO:basilicadelpilar@gmail.com
GEO:41.65463;-0.87564
X-APPLE-STRUCTURED-LOCATION;VALUE=URI;X-ADDRESS=Catedral del Salvador -La Seo- Plaza de la Seo 4 Zaragoza;X-APPLE-RADIUS=500;X-TITLE=Plaza de la Seo\, 4:geo:-0.87564,41.65463
END:VEVENT
BEGIN:VEVENT
DTSTART;VALUE=DATE:20260403
DTEND;VALUE=DATE:20260404
DTSTAMP:20260422T181433
CREATED:20250807T113351Z
LAST-MODIFIED:20250807T113351Z
UID:10000650-1775174400-1775260799@www.archizaragoza.org
SUMMARY:VIERNES SANTO
DESCRIPTION:
URL:https://www.archizaragoza.org/evento/viernes-santo
END:VEVENT
BEGIN:VEVENT
DTSTART;VALUE=DATE:20260403
DTEND;VALUE=DATE:20260404
DTSTAMP:20260422T181433
CREATED:20260324T084558Z
LAST-MODIFIED:20260324T084558Z
UID:10000906-1775174400-1775260799@www.archizaragoza.org
SUMMARY:Viernes Santo en la Pasión del Señor - Basílica del Pilar
DESCRIPTION:10.00. Oficio de Lecturas y Laudes.\n17.00. Celebración de la Pasión del Señor
URL:https://www.archizaragoza.org/evento/viernes-santo-en-la-pasion-del-senor-basilica-del-pilar
LOCATION:Basílica del Pilar
ORGANIZER;CN="Cabildo Metropolitano":MAILTO:basilicadelpilar@gmail.com
END:VEVENT
BEGIN:VEVENT
DTSTART;TZID=Europe/Madrid:20260403T173000
DTEND;TZID=Europe/Madrid:20260403T190000
DTSTAMP:20260422T181433
CREATED:20260324T082150Z
LAST-MODIFIED:20260324T082150Z
UID:10000901-1775237400-1775242800@www.archizaragoza.org
SUMMARY:Viernes Santo en la Pasión del Señor\, día de ayuno y abstinencia
DESCRIPTION:Celebración de la Pasión del Señor.
URL:https://www.archizaragoza.org/evento/viernes-santo-en-la-pasion-del-senor-dia-de-ayuno-y-abstinencia
LOCATION:Catedral del Salvador -La Seo-\, Plaza de la Seo\, 4\, Zaragoza
ORGANIZER;CN="Cabildo Metropolitano":MAILTO:basilicadelpilar@gmail.com
GEO:41.65463;-0.87564
X-APPLE-STRUCTURED-LOCATION;VALUE=URI;X-ADDRESS=Catedral del Salvador -La Seo- Plaza de la Seo 4 Zaragoza;X-APPLE-RADIUS=500;X-TITLE=Plaza de la Seo\, 4:geo:-0.87564,41.65463
END:VEVENT
BEGIN:VEVENT
DTSTART;VALUE=DATE:20260404
DTEND;VALUE=DATE:20260405
DTSTAMP:20260422T181433
CREATED:20260324T084713Z
LAST-MODIFIED:20260324T084713Z
UID:10000907-1775260800-1775347199@www.archizaragoza.org
SUMMARY:Solemne Vigilia Pascual en la Noche Santa - Basílica del Pilar
DESCRIPTION:10.00. Oficio de Lecturas y Laudes.\n22.00. Vigilia Pascual
URL:https://www.archizaragoza.org/evento/solemne-vigilia-pascual-en-la-noche-santa-basilica-del-pilar
LOCATION:Basílica del Pilar
ORGANIZER;CN="Cabildo Metropolitano":MAILTO:basilicadelpilar@gmail.com
END:VEVENT
BEGIN:VEVENT
DTSTART;TZID=Europe/Madrid:20260404T203000
DTEND;TZID=Europe/Madrid:20260404T220000
DTSTAMP:20260422T181433
CREATED:20260324T083336Z
LAST-MODIFIED:20260324T083336Z
UID:10000902-1775334600-1775340000@www.archizaragoza.org
SUMMARY:Solemne Vigilia Pascual en la Noche Santa\, comienza el Tiempo Pascual
DESCRIPTION:20.30. Vigilia Pascual
URL:https://www.archizaragoza.org/evento/solemne-vigilia-pascual-en-la-noche-santa-comienza-el-tiempo-pascual
LOCATION:Catedral del Salvador -La Seo-\, Plaza de la Seo\, 4\, Zaragoza
ORGANIZER;CN="Cabildo Metropolitano":MAILTO:basilicadelpilar@gmail.com
GEO:41.65463;-0.87564
X-APPLE-STRUCTURED-LOCATION;VALUE=URI;X-ADDRESS=Catedral del Salvador -La Seo- Plaza de la Seo 4 Zaragoza;X-APPLE-RADIUS=500;X-TITLE=Plaza de la Seo\, 4:geo:-0.87564,41.65463
END:VEVENT
BEGIN:VEVENT
DTSTART;VALUE=DATE:20260405
DTEND;VALUE=DATE:20260406
DTSTAMP:20260422T181433
CREATED:20250807T113508Z
LAST-MODIFIED:20250807T113508Z
UID:10000651-1775347200-1775433599@www.archizaragoza.org
SUMMARY:DOMINGO DE RESURRECCIÓN
DESCRIPTION:
URL:https://www.archizaragoza.org/evento/domingo-de-resurreccion-2
END:VEVENT
BEGIN:VEVENT
DTSTART;TZID=Europe/Madrid:20260405T123000
DTEND;TZID=Europe/Madrid:20260405T133000
DTSTAMP:20260422T181433
CREATED:20260324T083701Z
LAST-MODIFIED:20260324T083701Z
UID:10000903-1775392200-1775395800@www.archizaragoza.org
SUMMARY:Domingo de Pascua de la Resurrección del Señor\, comienza la Octava de Pascua
DESCRIPTION:12.30. Misa estacional.
URL:https://www.archizaragoza.org/evento/domingo-de-pascua-de-la-resurreccion-del-senor-comienza-la-octava-de-pascua
LOCATION:Catedral del Salvador -La Seo-\, Plaza de la Seo\, 4\, Zaragoza
ORGANIZER;CN="Cabildo Metropolitano":MAILTO:basilicadelpilar@gmail.com
GEO:41.65463;-0.87564
X-APPLE-STRUCTURED-LOCATION;VALUE=URI;X-ADDRESS=Catedral del Salvador -La Seo- Plaza de la Seo 4 Zaragoza;X-APPLE-RADIUS=500;X-TITLE=Plaza de la Seo\, 4:geo:-0.87564,41.65463
END:VEVENT
END:VCALENDAR