BEGIN:VCALENDAR
VERSION:2.0
PRODID:-//Archizaragoza - ECPv6.15.18//NONSGML v1.0//EN
CALSCALE:GREGORIAN
METHOD:PUBLISH
X-ORIGINAL-URL:https://www.archizaragoza.org
X-WR-CALDESC:Eventos para Archizaragoza
REFRESH-INTERVAL;VALUE=DURATION:PT1H
X-Robots-Tag:noindex
X-PUBLISHED-TTL:PT1H
BEGIN:VTIMEZONE
TZID:Europe/Madrid
BEGIN:DAYLIGHT
TZOFFSETFROM:+0100
TZOFFSETTO:+0200
TZNAME:CEST
DTSTART:20250330T010000
END:DAYLIGHT
BEGIN:STANDARD
TZOFFSETFROM:+0200
TZOFFSETTO:+0100
TZNAME:CET
DTSTART:20251026T010000
END:STANDARD
BEGIN:DAYLIGHT
TZOFFSETFROM:+0100
TZOFFSETTO:+0200
TZNAME:CEST
DTSTART:20260329T010000
END:DAYLIGHT
BEGIN:STANDARD
TZOFFSETFROM:+0200
TZOFFSETTO:+0100
TZNAME:CET
DTSTART:20261025T010000
END:STANDARD
BEGIN:DAYLIGHT
TZOFFSETFROM:+0100
TZOFFSETTO:+0200
TZNAME:CEST
DTSTART:20270328T010000
END:DAYLIGHT
BEGIN:STANDARD
TZOFFSETFROM:+0200
TZOFFSETTO:+0100
TZNAME:CET
DTSTART:20271031T010000
END:STANDARD
END:VTIMEZONE
BEGIN:VEVENT
DTSTART;TZID=Europe/Madrid:20260421T080000
DTEND;TZID=Europe/Madrid:20260521T170000
DTSTAMP:20260422T090934
CREATED:20260421T121050Z
LAST-MODIFIED:20260421T121158Z
UID:10000913-1776758400-1779382800@www.archizaragoza.org
SUMMARY:Exposición “Palestina. Esperanza de Paz”\,
DESCRIPTION:La exposición ofrece una aproximación a la situación actual de las comunidades cristianas en Tierra Santa\, con referencias concretas a lugares como Nablus o la región de Efraim. A través de paneles informativos y materiales divulgativos\, se invita al visitante a comprender la complejidad del contexto y\, sobre todo\, a acercarse al sufrimiento cotidiano de la población palestina.
URL:https://www.archizaragoza.org/evento/exposicion-palestina-esperanza-de-paz
LOCATION:Centro Civico Actur
END:VEVENT
END:VCALENDAR