BEGIN:VCALENDAR
VERSION:2.0
PRODID:-//Archizaragoza - ECPv6.15.18//NONSGML v1.0//EN
CALSCALE:GREGORIAN
METHOD:PUBLISH
X-ORIGINAL-URL:https://www.archizaragoza.org
X-WR-CALDESC:Eventos para Archizaragoza
REFRESH-INTERVAL;VALUE=DURATION:PT1H
X-Robots-Tag:noindex
X-PUBLISHED-TTL:PT1H
BEGIN:VTIMEZONE
TZID:Europe/Madrid
BEGIN:DAYLIGHT
TZOFFSETFROM:+0100
TZOFFSETTO:+0200
TZNAME:CEST
DTSTART:20250330T010000
END:DAYLIGHT
BEGIN:STANDARD
TZOFFSETFROM:+0200
TZOFFSETTO:+0100
TZNAME:CET
DTSTART:20251026T010000
END:STANDARD
BEGIN:DAYLIGHT
TZOFFSETFROM:+0100
TZOFFSETTO:+0200
TZNAME:CEST
DTSTART:20260329T010000
END:DAYLIGHT
BEGIN:STANDARD
TZOFFSETFROM:+0200
TZOFFSETTO:+0100
TZNAME:CET
DTSTART:20261025T010000
END:STANDARD
BEGIN:DAYLIGHT
TZOFFSETFROM:+0100
TZOFFSETTO:+0200
TZNAME:CEST
DTSTART:20270328T010000
END:DAYLIGHT
BEGIN:STANDARD
TZOFFSETFROM:+0200
TZOFFSETTO:+0100
TZNAME:CET
DTSTART:20271031T010000
END:STANDARD
END:VTIMEZONE
BEGIN:VEVENT
DTSTART;TZID=Europe/Madrid:20260507T200000
DTEND;TZID=Europe/Madrid:20260507T210000
DTSTAMP:20260421T133746
CREATED:20260218T130030Z
LAST-MODIFIED:20260218T130444Z
UID:10000858-1778184000-1778187600@www.archizaragoza.org
SUMMARY:Oficio por la unidad de los cristianos en la parroquia del Portillo
DESCRIPTION:
URL:https://www.archizaragoza.org/evento/oficio-por-la-unidad-de-los-cristianos-en-la-parroquia-del-portillo
LOCATION:Parroquia del Portillo\, Plaza Portillo\, 11\, Zaragoza
GEO:41.6556203;-0.8930472
X-APPLE-STRUCTURED-LOCATION;VALUE=URI;X-ADDRESS=Parroquia del Portillo Plaza Portillo 11 Zaragoza;X-APPLE-RADIUS=500;X-TITLE=Plaza Portillo\, 11:geo:-0.8930472,41.6556203
END:VEVENT
BEGIN:VEVENT
DTSTART;TZID=Europe/Madrid:20260604T200000
DTEND;TZID=Europe/Madrid:20260604T210000
DTSTAMP:20260421T133746
CREATED:20260218T130112Z
LAST-MODIFIED:20260218T130112Z
UID:10000859-1780603200-1780606800@www.archizaragoza.org
SUMMARY:Oficio por la unidad de los cristianos
DESCRIPTION:
URL:https://www.archizaragoza.org/evento/oficio-por-la-unidad-de-los-cristianos
LOCATION:Catedral del Salvador -La Seo-\, Plaza de la Seo\, 4\, Zaragoza
GEO:41.65463;-0.87564
X-APPLE-STRUCTURED-LOCATION;VALUE=URI;X-ADDRESS=Catedral del Salvador -La Seo- Plaza de la Seo 4 Zaragoza;X-APPLE-RADIUS=500;X-TITLE=Plaza de la Seo\, 4:geo:-0.87564,41.65463
END:VEVENT
END:VCALENDAR