BEGIN:VCALENDAR
VERSION:2.0
PRODID:-//Archizaragoza - ECPv6.15.18//NONSGML v1.0//EN
CALSCALE:GREGORIAN
METHOD:PUBLISH
X-WR-CALNAME:Archizaragoza
X-ORIGINAL-URL:https://www.archizaragoza.org
X-WR-CALDESC:Eventos para Archizaragoza
REFRESH-INTERVAL;VALUE=DURATION:PT1H
X-Robots-Tag:noindex
X-PUBLISHED-TTL:PT1H
BEGIN:VTIMEZONE
TZID:Europe/Madrid
BEGIN:DAYLIGHT
TZOFFSETFROM:+0100
TZOFFSETTO:+0200
TZNAME:CEST
DTSTART:20250330T010000
END:DAYLIGHT
BEGIN:STANDARD
TZOFFSETFROM:+0200
TZOFFSETTO:+0100
TZNAME:CET
DTSTART:20251026T010000
END:STANDARD
BEGIN:DAYLIGHT
TZOFFSETFROM:+0100
TZOFFSETTO:+0200
TZNAME:CEST
DTSTART:20260329T010000
END:DAYLIGHT
BEGIN:STANDARD
TZOFFSETFROM:+0200
TZOFFSETTO:+0100
TZNAME:CET
DTSTART:20261025T010000
END:STANDARD
BEGIN:DAYLIGHT
TZOFFSETFROM:+0100
TZOFFSETTO:+0200
TZNAME:CEST
DTSTART:20270328T010000
END:DAYLIGHT
BEGIN:STANDARD
TZOFFSETFROM:+0200
TZOFFSETTO:+0100
TZNAME:CET
DTSTART:20271031T010000
END:STANDARD
END:VTIMEZONE
BEGIN:VEVENT
DTSTART;TZID=Europe/Madrid:20260427T180000
DTEND;TZID=Europe/Madrid:20260427T190000
DTSTAMP:20260423T144810
CREATED:20260415T095913Z
LAST-MODIFIED:20260415T095913Z
UID:10000910-1777312800-1777316400@www.archizaragoza.org
SUMMARY:Taller de Poesía Mística
DESCRIPTION:El carácter purificativo de la poesía mística. Análisis de poemas. Ponente: Izara Batres. Ganadora del XXXIV Premio Mundial de Poesía Mística.
URL:https://www.archizaragoza.org/evento/taller-de-poesia-mistica
LOCATION:CRETA\, Ronda Hispanidad\, 10\, Zaragoza
GEO:41.6302135;-0.9022092
X-APPLE-STRUCTURED-LOCATION;VALUE=URI;X-ADDRESS=CRETA Ronda Hispanidad 10 Zaragoza;X-APPLE-RADIUS=500;X-TITLE=Ronda Hispanidad\, 10:geo:-0.9022092,41.6302135
END:VEVENT
BEGIN:VEVENT
DTSTART;TZID=Europe/Madrid:20260513T000000
DTEND;TZID=Europe/Madrid:20260513T000000
DTSTAMP:20260423T144810
CREATED:20250808T073623Z
LAST-MODIFIED:20250808T073623Z
UID:10000659-1778630400-1778630400@www.archizaragoza.org
SUMMARY:Graduación de los alumnos del CRETA y del ISCRNP
DESCRIPTION:
URL:https://www.archizaragoza.org/evento/graduacion-de-los-alumnos-del-creta-y-del-iscrnp-2
LOCATION:CRETA\, Ronda Hispanidad\, 10\, Zaragoza
GEO:41.6302135;-0.9022092
X-APPLE-STRUCTURED-LOCATION;VALUE=URI;X-ADDRESS=CRETA Ronda Hispanidad 10 Zaragoza;X-APPLE-RADIUS=500;X-TITLE=Ronda Hispanidad\, 10:geo:-0.9022092,41.6302135
END:VEVENT
BEGIN:VEVENT
DTSTART;TZID=Europe/Madrid:20260622T000000
DTEND;TZID=Europe/Madrid:20260626T000000
DTSTAMP:20260423T144810
CREATED:20250808T084700Z
LAST-MODIFIED:20250808T084700Z
UID:10000675-1782086400-1782432000@www.archizaragoza.org
SUMMARY:Curso de formación bíblica
DESCRIPTION:
URL:https://www.archizaragoza.org/evento/curso-de-formacion-biblica
END:VEVENT
END:VCALENDAR