BEGIN:VCALENDAR
VERSION:2.0
PRODID:-//Archizaragoza - ECPv6.15.18//NONSGML v1.0//EN
CALSCALE:GREGORIAN
METHOD:PUBLISH
X-ORIGINAL-URL:https://www.archizaragoza.org
X-WR-CALDESC:Eventos para Archizaragoza
REFRESH-INTERVAL;VALUE=DURATION:PT1H
X-Robots-Tag:noindex
X-PUBLISHED-TTL:PT1H
BEGIN:VTIMEZONE
TZID:Europe/Madrid
BEGIN:DAYLIGHT
TZOFFSETFROM:+0100
TZOFFSETTO:+0200
TZNAME:CEST
DTSTART:20250330T010000
END:DAYLIGHT
BEGIN:STANDARD
TZOFFSETFROM:+0200
TZOFFSETTO:+0100
TZNAME:CET
DTSTART:20251026T010000
END:STANDARD
BEGIN:DAYLIGHT
TZOFFSETFROM:+0100
TZOFFSETTO:+0200
TZNAME:CEST
DTSTART:20260329T010000
END:DAYLIGHT
BEGIN:STANDARD
TZOFFSETFROM:+0200
TZOFFSETTO:+0100
TZNAME:CET
DTSTART:20261025T010000
END:STANDARD
BEGIN:DAYLIGHT
TZOFFSETFROM:+0100
TZOFFSETTO:+0200
TZNAME:CEST
DTSTART:20270328T010000
END:DAYLIGHT
BEGIN:STANDARD
TZOFFSETFROM:+0200
TZOFFSETTO:+0100
TZNAME:CET
DTSTART:20271031T010000
END:STANDARD
END:VTIMEZONE
BEGIN:VEVENT
DTSTART;TZID=Europe/Madrid:20260311T190000
DTEND;TZID=Europe/Madrid:20260311T200000
DTSTAMP:20260423T115431
CREATED:20260306T112935Z
LAST-MODIFIED:20260306T112935Z
UID:10000883-1773255600-1773259200@www.archizaragoza.org
SUMMARY:Presentación del libro «Trabajo humano\, el reto pendiente»
DESCRIPTION:La HOAC (Hermandad Obrera de Acción Católica) ha organizado un acto público para presentar el libro «Trabajo humano\, el reto pendiente». La obra profundiza en la necesidad de situar a la persona en el centro de la actividad económica y analizar las carencias del sistema actual. \nEl evento contará con la participación de: \n\n\nFrancisco Porcar Rebollar\, autor del libro. \n\n\nSaúl Pérez\, politólogo y militante de la HOAC. \n\n\nLa presentación se celebrará el miércoles\, 11 de marzo\, a las 19:00 horas en el salón de actos de la Casa de la Iglesia (Plaza de La Seo\, 6).
URL:https://www.archizaragoza.org/evento/presentacion-del-libro-trabajo-humano-el-reto-pendiente
LOCATION:Salon de actos de la Casa de la Iglesia\, Plaza la Seo\, 6\, Zaragoza\, Zaragoza\, 50001\, España
GEO:41.6558012;-0.8760417
X-APPLE-STRUCTURED-LOCATION;VALUE=URI;X-ADDRESS=Salon de actos de la Casa de la Iglesia Plaza la Seo 6 Zaragoza Zaragoza 50001 España;X-APPLE-RADIUS=500;X-TITLE=Plaza la Seo\, 6:geo:-0.8760417,41.6558012
END:VEVENT
END:VCALENDAR