BEGIN:VCALENDAR
VERSION:2.0
PRODID:-//Archizaragoza - ECPv6.15.18//NONSGML v1.0//EN
CALSCALE:GREGORIAN
METHOD:PUBLISH
X-WR-CALNAME:Archizaragoza
X-ORIGINAL-URL:https://www.archizaragoza.org
X-WR-CALDESC:Eventos para Archizaragoza
REFRESH-INTERVAL;VALUE=DURATION:PT1H
X-Robots-Tag:noindex
X-PUBLISHED-TTL:PT1H
BEGIN:VTIMEZONE
TZID:Europe/Madrid
BEGIN:DAYLIGHT
TZOFFSETFROM:+0100
TZOFFSETTO:+0200
TZNAME:CEST
DTSTART:20250330T010000
END:DAYLIGHT
BEGIN:STANDARD
TZOFFSETFROM:+0200
TZOFFSETTO:+0100
TZNAME:CET
DTSTART:20251026T010000
END:STANDARD
BEGIN:DAYLIGHT
TZOFFSETFROM:+0100
TZOFFSETTO:+0200
TZNAME:CEST
DTSTART:20260329T010000
END:DAYLIGHT
BEGIN:STANDARD
TZOFFSETFROM:+0200
TZOFFSETTO:+0100
TZNAME:CET
DTSTART:20261025T010000
END:STANDARD
BEGIN:DAYLIGHT
TZOFFSETFROM:+0100
TZOFFSETTO:+0200
TZNAME:CEST
DTSTART:20270328T010000
END:DAYLIGHT
BEGIN:STANDARD
TZOFFSETFROM:+0200
TZOFFSETTO:+0100
TZNAME:CET
DTSTART:20271031T010000
END:STANDARD
END:VTIMEZONE
BEGIN:VEVENT
DTSTART;TZID=Europe/Madrid:20260422T173000
DTEND;TZID=Europe/Madrid:20260422T183000
DTSTAMP:20260422T201054
CREATED:20260112T132243Z
LAST-MODIFIED:20260112T135334Z
UID:10000755-1776879000-1776882600@www.archizaragoza.org
SUMMARY:Escuela de Pastoral de la Salud
DESCRIPTION:Dirigido a Profesionales de la Salud\, LARES\, Agentes de Pastoral de la Salud\, Sacerdotes\, Religiosos/sas y todas aquellas personas interesadas en esta Pastoral. \nModalidad Presencial: 25 euros\nOnline: 20 euros
URL:https://www.archizaragoza.org/evento/escuela-de-pastoral-de-la-salud-2/2026-04-22
LOCATION:Casa de la Iglesia\, Plaza de la Seo\, 6\, Zaragoza\, 50001
ORGANIZER;CN="Pastoral de la salud":MAILTO:psaludzaragoza@gmail.com
GEO:41.6558012;-0.8760417
X-APPLE-STRUCTURED-LOCATION;VALUE=URI;X-ADDRESS=Casa de la Iglesia Plaza de la Seo 6 Zaragoza 50001;X-APPLE-RADIUS=500;X-TITLE=Plaza de la Seo\, 6:geo:-0.8760417,41.6558012
END:VEVENT
BEGIN:VEVENT
DTSTART;TZID=Europe/Madrid:20260408T173000
DTEND;TZID=Europe/Madrid:20260408T183000
DTSTAMP:20260422T201054
CREATED:20260112T132243Z
LAST-MODIFIED:20260112T135334Z
UID:10000754-1775669400-1775673000@www.archizaragoza.org
SUMMARY:Escuela de Pastoral de la Salud
DESCRIPTION:Dirigido a Profesionales de la Salud\, LARES\, Agentes de Pastoral de la Salud\, Sacerdotes\, Religiosos/sas y todas aquellas personas interesadas en esta Pastoral. \nModalidad Presencial: 25 euros\nOnline: 20 euros
URL:https://www.archizaragoza.org/evento/escuela-de-pastoral-de-la-salud-2/2026-04-08
LOCATION:Casa de la Iglesia\, Plaza de la Seo\, 6\, Zaragoza\, 50001
ORGANIZER;CN="Pastoral de la salud":MAILTO:psaludzaragoza@gmail.com
GEO:41.6558012;-0.8760417
X-APPLE-STRUCTURED-LOCATION;VALUE=URI;X-ADDRESS=Casa de la Iglesia Plaza de la Seo 6 Zaragoza 50001;X-APPLE-RADIUS=500;X-TITLE=Plaza de la Seo\, 6:geo:-0.8760417,41.6558012
END:VEVENT
BEGIN:VEVENT
DTSTART;TZID=Europe/Madrid:20260318T173000
DTEND;TZID=Europe/Madrid:20260318T183000
DTSTAMP:20260422T201054
CREATED:20260112T132243Z
LAST-MODIFIED:20260112T135334Z
UID:10000753-1773855000-1773858600@www.archizaragoza.org
SUMMARY:Escuela de Pastoral de la Salud
DESCRIPTION:Dirigido a Profesionales de la Salud\, LARES\, Agentes de Pastoral de la Salud\, Sacerdotes\, Religiosos/sas y todas aquellas personas interesadas en esta Pastoral. \nModalidad Presencial: 25 euros\nOnline: 20 euros
URL:https://www.archizaragoza.org/evento/escuela-de-pastoral-de-la-salud-2/2026-03-18
LOCATION:Casa de la Iglesia\, Plaza de la Seo\, 6\, Zaragoza\, 50001
ORGANIZER;CN="Pastoral de la salud":MAILTO:psaludzaragoza@gmail.com
GEO:41.6558012;-0.8760417
X-APPLE-STRUCTURED-LOCATION;VALUE=URI;X-ADDRESS=Casa de la Iglesia Plaza de la Seo 6 Zaragoza 50001;X-APPLE-RADIUS=500;X-TITLE=Plaza de la Seo\, 6:geo:-0.8760417,41.6558012
END:VEVENT
BEGIN:VEVENT
DTSTART;TZID=Europe/Madrid:20260304T173000
DTEND;TZID=Europe/Madrid:20260304T183000
DTSTAMP:20260422T201054
CREATED:20260221T084028Z
LAST-MODIFIED:20260221T084028Z
UID:10000752-1772645400-1772649000@www.archizaragoza.org
SUMMARY:Escuela de Pastoral de la Salud
DESCRIPTION:«implicaciones desde Pastoral de la Salud ante las modificaciones de la Ley del Aborto».\nPonente: Dr. Antonio Gasós\nPresenta: Juanjo Hernández\nDirigido a: Profesionales de la Salud\, LARES\, Agentes de Pastoral de la Salud\, Sacerdotes\, Religiosos/sas y todas aquellas personas interesadas en esta Pastoral. \nModalidad Presencial: 25 euros\nOnline: 20 euros
URL:https://www.archizaragoza.org/evento/escuela-de-pastoral-de-la-salud-2-2
LOCATION:Casa de la Iglesia\, Plaza de la Seo\, 6\, Zaragoza\, 50001
ORGANIZER;CN="Pastoral de la salud":MAILTO:psaludzaragoza@gmail.com
GEO:41.6558012;-0.8760417
X-APPLE-STRUCTURED-LOCATION;VALUE=URI;X-ADDRESS=Casa de la Iglesia Plaza de la Seo 6 Zaragoza 50001;X-APPLE-RADIUS=500;X-TITLE=Plaza de la Seo\, 6:geo:-0.8760417,41.6558012
END:VEVENT
BEGIN:VEVENT
DTSTART;TZID=Europe/Madrid:20260218T173000
DTEND;TZID=Europe/Madrid:20260218T183000
DTSTAMP:20260422T201054
CREATED:20260112T132243Z
LAST-MODIFIED:20260112T135334Z
UID:10000751-1771435800-1771439400@www.archizaragoza.org
SUMMARY:Escuela de Pastoral de la Salud
DESCRIPTION:Dirigido a Profesionales de la Salud\, LARES\, Agentes de Pastoral de la Salud\, Sacerdotes\, Religiosos/sas y todas aquellas personas interesadas en esta Pastoral. \nModalidad Presencial: 25 euros\nOnline: 20 euros
URL:https://www.archizaragoza.org/evento/escuela-de-pastoral-de-la-salud-2/2026-02-18
LOCATION:Casa de la Iglesia\, Plaza de la Seo\, 6\, Zaragoza\, 50001
ORGANIZER;CN="Pastoral de la salud":MAILTO:psaludzaragoza@gmail.com
GEO:41.6558012;-0.8760417
X-APPLE-STRUCTURED-LOCATION;VALUE=URI;X-ADDRESS=Casa de la Iglesia Plaza de la Seo 6 Zaragoza 50001;X-APPLE-RADIUS=500;X-TITLE=Plaza de la Seo\, 6:geo:-0.8760417,41.6558012
END:VEVENT
BEGIN:VEVENT
DTSTART;VALUE=DATE:20260209
DTEND;VALUE=DATE:20260211
DTSTAMP:20260422T201054
CREATED:20250806T104157Z
LAST-MODIFIED:20250806T104157Z
UID:10000625-1770595200-1770767999@www.archizaragoza.org
SUMMARY:Jornadas de Teología en Aragón “Tema: Imagen de Dios. La Teología ante los desafíos a la dignidad humana”
DESCRIPTION:
URL:https://www.archizaragoza.org/evento/jornadas-de-teologia-en-aragon-tema-imagen-de-dios-la-teologia-ante-los-desafios-a-la-dignidad-humana
LOCATION:Casa de la Iglesia\, Plaza de la Seo\, 6\, Zaragoza\, 50001
GEO:41.6558012;-0.8760417
X-APPLE-STRUCTURED-LOCATION;VALUE=URI;X-ADDRESS=Casa de la Iglesia Plaza de la Seo 6 Zaragoza 50001;X-APPLE-RADIUS=500;X-TITLE=Plaza de la Seo\, 6:geo:-0.8760417,41.6558012
END:VEVENT
BEGIN:VEVENT
DTSTART;TZID=Europe/Madrid:20260207T100000
DTEND;TZID=Europe/Madrid:20260207T200000
DTSTAMP:20260422T201054
CREATED:20260114T092924Z
LAST-MODIFIED:20260114T092924Z
UID:10000771-1770458400-1770494400@www.archizaragoza.org
SUMMARY:XXIV Jornada Diocesana de Formación para Catequistas
DESCRIPTION:La Jornada anual de formación la vamos a profundizar en la catequesis y la discapacidad. Nos acompañará D. Pablo Vadillo\, sacerdote de nuestra Diócesis\, Doctor en Catequética y experto en esta realidad.  \nla Jornada se desarrollará en tres partes. La primera de 10:00 a 14:00 en la Casa de la Iglesia\, de 16:00 a 17:30 en el Museo del Rosario de Cristal (Plaza San Pedro Nolasco) y de 17:30 a 18:30 en la Parroquia de San Gil (C/ Don Jaime). También este año\, dado el éxito de la edición pasada\, os ofrecemos la comida (previa inscripción) en el Colegio de San Vicente de Paúl. La inscripción se realizará mediante formulario on-line al que podéis acceder desde el blog de la Delegación o desde el Código QR incluido en la propaganda. (El plazo de inscripción hasta el 30 de Enero).
URL:https://www.archizaragoza.org/evento/xxiv-jornada-diocesana-de-formacion-para-catequistas
LOCATION:Casa de la Iglesia\, Plaza de la Seo\, 6\, Zaragoza\, 50001
GEO:41.6558012;-0.8760417
X-APPLE-STRUCTURED-LOCATION;VALUE=URI;X-ADDRESS=Casa de la Iglesia Plaza de la Seo 6 Zaragoza 50001;X-APPLE-RADIUS=500;X-TITLE=Plaza de la Seo\, 6:geo:-0.8760417,41.6558012
END:VEVENT
BEGIN:VEVENT
DTSTART;TZID=Europe/Madrid:20260204T173000
DTEND;TZID=Europe/Madrid:20260204T183000
DTSTAMP:20260422T201054
CREATED:20260112T132243Z
LAST-MODIFIED:20260112T135334Z
UID:10000750-1770226200-1770229800@www.archizaragoza.org
SUMMARY:Escuela de Pastoral de la Salud
DESCRIPTION:Dirigido a Profesionales de la Salud\, LARES\, Agentes de Pastoral de la Salud\, Sacerdotes\, Religiosos/sas y todas aquellas personas interesadas en esta Pastoral. \nModalidad Presencial: 25 euros\nOnline: 20 euros
URL:https://www.archizaragoza.org/evento/escuela-de-pastoral-de-la-salud-2/2026-02-04
LOCATION:Casa de la Iglesia\, Plaza de la Seo\, 6\, Zaragoza\, 50001
ORGANIZER;CN="Pastoral de la salud":MAILTO:psaludzaragoza@gmail.com
GEO:41.6558012;-0.8760417
X-APPLE-STRUCTURED-LOCATION;VALUE=URI;X-ADDRESS=Casa de la Iglesia Plaza de la Seo 6 Zaragoza 50001;X-APPLE-RADIUS=500;X-TITLE=Plaza de la Seo\, 6:geo:-0.8760417,41.6558012
END:VEVENT
END:VCALENDAR